{"text_format":"2","workbook":"xlsx","n_sheets":13,"sheets":["常温测试","电压及电流","谐波抑制","杂波抑制","调制系数","功率及频率稳定度","FSK调制系数","噪声功率谱密度","相位噪声","功率(功率计)","测试信息","Sheet1","Sheet2"],"not_rendered":{"charts":0,"images":0,"macros":0,"external_links":0,"defined_names":0,"comments":0,"pivot_tables":0},"unopened":[],"bounds":{"document_bytes":16777216,"sheet_cells":100000,"run_cost":"one","rows_first":2000,"rows_last":500,"rows_between":2000,"halvings":0,"cell_chars":16384,"cell_head_chars":4096},"cells_cut":0,"cells_raw":0,"read":"whole","date_system":"1900"}

{"sheet":"常温测试","index":0,"n_rows":21,"n_cols":13,"rows_kept":21,"cut":false,"hidden":false,"merged":[[0,0,0,12],[1,1,1,12],[2,1,2,12],[3,8,3,9],[3,10,3,11],[3,0,4,0],[5,0,17,0],[3,1,4,1],[3,2,4,2],[3,3,4,3],[3,4,4,4],[3,5,4,5],[3,6,4,6],[3,7,4,7],[3,12,4,12]]}
["YZH1-6A 遥测采发组合环境应力筛选试验记录（发射机）     "]
["测试项目","常温性能测试（发射机）"]
["技术要求","供电电压：28V；                                                                                                                                                                                                                   消耗电流：记录；中心频率：（f0±0.110）MHz；                                                                                                                                                                      调制度：0.7±0.1；输出功率：每个通道≥4W （36dBm）；                                                                                                                                                                  杂波抑制：≥50dB，其中：1.238GHz～1.298GHz抑制不小于110dB；谐波抑制：≥50dB；                                                                                        备注：产品完成A组试验后，配置频点为频点50，作为产品初始频点。"]
["产品编号","频率代\n码PL","设定频率\n（MHz）","供电电压\n（V）","消耗电流\n（A）","中心频率\n(MHz)","fL\n(MHz)","调制指数","输出功率(W)",null,"杂波抑制（dB）",null,"谐波抑制\n(dB)"]
[{"$nulls":8},"XC13","XC14","带内","特殊频段"]
[{"$f":"测试信息!A2","v":11},"01H",2201.5,{"$f":"电压及电流!Z2","v":27},{"$f":"电压及电流!AA2","v":1.6},{"$f":"功率及频率稳定度!P2","v":2201.524},{"$f":"FSK调制系数!P2","v":2.31},{"$f":"FSK调制系数!D2","v":0.7},{"$f":"功率及频率稳定度!D2","v":13.62},{"$f":"'功率(功率计)'!J2","v":4.26},{"$f":"杂波抑制!L2","v":57.11},{"$f":"杂波抑制!X2","v":123.23},{"$f":"谐波抑制!L2","v":61.21}]
[null,"06H",2206.5,{"$f":"电压及电流!Z3","v":27},{"$f":"电压及电流!AA3","v":1.58},{"$f":"功率及频率稳定度!P3","v":2206.522},{"$f":"FSK调制系数!P3","v":2.3},{"$f":"FSK调制系数!D3","v":0.7},{"$f":"功率及频率稳定度!D3","v":12.4},{"$f":"'功率(功率计)'!J3","v":4.09},{"$f":"杂波抑制!L3","v":56.24},{"$f":"杂波抑制!X3","v":121.71},{"$f":"谐波抑制!L3","v":60.18}]
[null,"16H",2216.5,{"$f":"电压及电流!Z4","v":27},{"$f":"电压及电流!AA4","v":1.64},{"$f":"功率及频率稳定度!P4","v":2216.521},{"$f":"FSK调制系数!P4","v":2.3},{"$f":"FSK调制系数!D4","v":0.7},{"$f":"功率及频率稳定度!D4","v":13.05},{"$f":"'功率(功率计)'!J4","v":4.24},{"$f":"杂波抑制!L4","v":57.93},{"$f":"杂波抑制!X4","v":122.89},{"$f":"谐波抑制!L4","v":59.46}]
[null,"26H",2226.5,{"$f":"电压及电流!Z5","v":27},{"$f":"电压及电流!AA5","v":1.72},{"$f":"功率及频率稳定度!P5","v":2226.52},{"$f":"FSK调制系数!P5","v":2.3},{"$f":"FSK调制系数!D5","v":0.7},{"$f":"功率及频率稳定度!D5","v":15.8},{"$f":"'功率(功率计)'!J5","v":4.78},{"$f":"杂波抑制!L5","v":62.89},{"$f":"杂波抑制!X5","v":123.24},{"$f":"谐波抑制!L5","v":71.84}]
[null,"36H",2236.5,{"$f":"电压及电流!Z6","v":27},{"$f":"电压及电流!AA6","v":1.69},{"$f":"功率及频率稳定度!P6","v":2236.519},{"$f":"FSK调制系数!P6","v":2.3},{"$f":"FSK调制系数!D6","v":0.7},{"$f":"功率及频率稳定度!D6","v":13.6},{"$f":"'功率(功率计)'!J6","v":4.56},{"$f":"杂波抑制!L6","v":57.1},{"$f":"杂波抑制!X6","v":123.18},{"$f":"谐波抑制!L6","v":64.64}]
[null,"46H",2246.5,{"$f":"电压及电流!Z7","v":27},{"$f":"电压及电流!AA7","v":1.7},{"$f":"功率及频率稳定度!P7","v":2246.518},{"$f":"FSK调制系数!P7","v":2.31},{"$f":"FSK调制系数!D7","v":0.7},{"$f":"功率及频率稳定度!D7","v":14.01},{"$f":"'功率(功率计)'!J7","v":4.35},{"$f":"杂波抑制!L7","v":60.24},{"$f":"杂波抑制!X7","v":123.6},{"$f":"谐波抑制!L7","v":70.42}]
[null,"50H",2250.5,{"$f":"电压及电流!Z8","v":27},{"$f":"电压及电流!AA8","v":1.73},{"$f":"功率及频率稳定度!P8","v":2250.517},{"$f":"FSK调制系数!P8","v":2.3},{"$f":"FSK调制系数!D8","v":0.7},{"$f":"功率及频率稳定度!D8","v":13.94},{"$f":"'功率(功率计)'!J8","v":4.5},{"$f":"杂波抑制!L8","v":60.63},{"$f":"杂波抑制!X8","v":124.7},{"$f":"谐波抑制!L8","v":70.31}]
[null,"56H",2256.5,{"$f":"电压及电流!Z9","v":27},{"$f":"电压及电流!AA9","v":1.78},{"$f":"功率及频率稳定度!P9","v":2256.516},{"$f":"FSK调制系数!P9","v":2.3},{"$f":"FSK调制系数!D9","v":0.7},{"$f":"功率及频率稳定度!D9","v":15.2},{"$f":"'功率(功率计)'!J9","v":4.78},{"$f":"杂波抑制!L9","v":65.15},{"$f":"杂波抑制!X9","v":123.46},{"$f":"谐波抑制!L9","v":78.77}]
[null,"66H",2266.5,{"$f":"电压及电流!Z10","v":27},{"$f":"电压及电流!AA10","v":1.76},{"$f":"功率及频率稳定度!P10","v":2266.515},{"$f":"FSK调制系数!P10","v":2.3},{"$f":"FSK调制系数!D10","v":0.7},{"$f":"功率及频率稳定度!D10","v":14.64},{"$f":"'功率(功率计)'!J10","v":4.84},{"$f":"杂波抑制!L10","v":58.3},{"$f":"杂波抑制!X10","v":124.93},{"$f":"谐波抑制!L10","v":76.99}]
[null,"76H",2276.5,{"$f":"电压及电流!Z11","v":27},{"$f":"电压及电流!AA11","v":1.72},{"$f":"功率及频率稳定度!P11","v":2276.515},{"$f":"FSK调制系数!P11","v":2.3},{"$f":"FSK调制系数!D11","v":0.7},{"$f":"功率及频率稳定度!D11","v":13.07},{"$f":"'功率(功率计)'!J11","v":4.57},{"$f":"杂波抑制!L11","v":54.04},{"$f":"杂波抑制!X11","v":122.75},{"$f":"谐波抑制!L11","v":78.71}]
[null,"86H",2286.5,{"$f":"电压及电流!Z12","v":27},{"$f":"电压及电流!AA12","v":1.76},{"$f":"功率及频率稳定度!P12","v":2286.514},{"$f":"FSK调制系数!P12","v":2.31},{"$f":"FSK调制系数!D12","v":0.7},{"$f":"功率及频率稳定度!D12","v":14.44},{"$f":"'功率(功率计)'!J12","v":4.74},{"$f":"杂波抑制!L12","v":56.18},{"$f":"杂波抑制!X12","v":122.3},{"$f":"谐波抑制!L12","v":82.66}]
[null,"96H",2296.5,{"$f":"电压及电流!Z13","v":27},{"$f":"电压及电流!AA13","v":1.73},{"$f":"功率及频率稳定度!P13","v":2296.513},{"$f":"FSK调制系数!P13","v":2.31},{"$f":"FSK调制系数!D13","v":0.7},{"$f":"功率及频率稳定度!D13","v":14.07},{"$f":"'功率(功率计)'!J13","v":4.69},{"$f":"杂波抑制!L13","v":56},{"$f":"杂波抑制!X13","v":123.34},{"$f":"谐波抑制!L13","v":75.98}]
[null,"99H",2299.5,{"$f":"电压及电流!Z14","v":27},{"$f":"电压及电流!AA14","v":1.72},{"$f":"功率及频率稳定度!P14","v":2299.512},{"$f":"FSK调制系数!P14","v":2.3},{"$f":"FSK调制系数!D14","v":0.7},{"$f":"功率及频率稳定度!D14","v":13.05},{"$f":"'功率(功率计)'!J14","v":4.6},{"$f":"杂波抑制!L14","v":58.6},{"$f":"杂波抑制!X14","v":124.01},{"$f":"谐波抑制!L14","v":76.15}]
["备注"]
["结论","本页检验     1  台合格，  0  台不合格。"]
["检验员： ",null,"测试日期：",{"$f":"测试信息!C2","v":"2021-11-22"},"温度：",{"$f":"测试信息!D2","v":"26℃"},{"$f":"测试信息!E2","v":"60%RH"}]

{"sheet":"电压及电流","index":1,"n_rows":77,"n_cols":27,"rows_kept":77,"cut":false,"hidden":false,"merged":[]}
["测试名称","下限","上限","测试值","通过",null,"测试名称","下限","上限","测试值","通过",null,"测试名称","下限","上限","测试值","通过",null,"测试名称","下限","上限","测试值","通过",null,null,"两通道电压最大值","两通道电流最大值"]
["通道1-电压测试-2201.5MHz",24,31,27,"是",{"$nulls":7},"通道1-电流测试-2201.5MHz",0.1,2.1,1.6,"是",{"$nulls":8},{"$f":"MAX(D2,J2)","v":27},{"$f":"MAX(P2,V2)","v":1.6}]
["通道1-电压测试-2206.5MHz",24,31,27,"是",{"$nulls":7},"通道1-电流测试-2206.5MHz",0.1,2.1,1.58,"是",{"$nulls":8},27,1.58]
["通道1-电压测试-2216.5MHz",24,31,27,"是",{"$nulls":7},"通道1-电流测试-2216.5MHz",0.1,2.1,1.64,"是",{"$nulls":8},27,1.64]
["通道1-电压测试-2226.5MHz",24,31,27,"是",{"$nulls":7},"通道1-电流测试-2226.5MHz",0.1,2.1,1.72,"是",{"$nulls":8},27,1.72]
["通道1-电压测试-2236.5MHz",24,31,27,"是",{"$nulls":7},"通道1-电流测试-2236.5MHz",0.1,2.1,1.69,"是",{"$nulls":8},27,1.69]
["通道1-电压测试-2246.5MHz",24,31,27,"是",{"$nulls":7},"通道1-电流测试-2246.5MHz",0.1,2.1,1.7,"是",{"$nulls":8},27,1.7]
["通道1-电压测试-2250.5MHz",24,31,27,"是",{"$nulls":7},"通道1-电流测试-2250.5MHz",0.1,2.1,1.73,"是",{"$nulls":8},27,1.73]
["通道1-电压测试-2256.5MHz",24,31,27,"是",{"$nulls":7},"通道1-电流测试-2256.5MHz",0.1,2.1,1.78,"是",{"$nulls":8},27,1.78]
["通道1-电压测试-2266.5MHz",24,31,27,"是",{"$nulls":7},"通道1-电流测试-2266.5MHz",0.1,2.1,1.76,"是",{"$nulls":8},27,1.76]
["通道1-电压测试-2276.5MHz",24,31,27,"是",{"$nulls":7},"通道1-电流测试-2276.5MHz",0.1,2.1,1.72,"是",{"$nulls":8},27,1.72]
["通道1-电压测试-2286.5MHz",24,31,27,"是",{"$nulls":7},"通道1-电流测试-2286.5MHz",0.1,2.1,1.76,"是",{"$nulls":8},27,1.76]
["通道1-电压测试-2296.5MHz",24,31,27,"是",{"$nulls":7},"通道1-电流测试-2296.5MHz",0.1,2.1,1.73,"是",{"$nulls":8},27,1.73]
["通道1-电压测试-2299.5MHz",24,31,27,"是",{"$nulls":7},"通道1-电流测试-2299.5MHz",0.1,2.1,1.72,"是",{"$nulls":8},27,1.72]
[{"$nulls":25},{"$f":"MAX(D15,J15)","v":0},{"$f":"MAX(P15,V15)","v":0}]
[{"$nulls":25},0,0]
[{"$nulls":25},0,0]
[{"$nulls":25},0,0]
[{"$nulls":25},0,0]
[{"$nulls":25},0,0]
[{"$nulls":25},0,0]
[{"$nulls":25},0,0]
[{"$nulls":25},0,0]
[{"$nulls":25},0,0]
[{"$nulls":25},0,0]
[{"$nulls":25},0,0]
[{"$nulls":25},0,0]
[{"$nulls":25},0,0]
[{"$nulls":25},0,0]
[{"$nulls":25},0,0]
[{"$nulls":25},0,0]
[{"$nulls":25},{"$f":"MAX(D32,J32)","v":0},0]
[{"$nulls":25},0,0]
[{"$nulls":25},0,0]
[{"$nulls":25},0,0]
[{"$nulls":25},0,0]
[{"$nulls":25},0,0]
[{"$nulls":25},0,0]
[{"$nulls":25},0,0]
[{"$nulls":25},0,0]
[{"$nulls":25},0,0]
[{"$nulls":25},0,0]
[{"$nulls":25},0,0]
[{"$nulls":25},0,0]
[{"$nulls":25},0,0]
[{"$nulls":25},0,0]
[{"$nulls":25},0,0]
[{"$nulls":25},0,0]
[{"$nulls":25},0,0]
[{"$nulls":25},0,0]
[{"$nulls":25},0,0]
[{"$nulls":25},0,0]
[{"$nulls":25},0,0]
[{"$nulls":25},0,0]
[{"$nulls":25},0,0]
[{"$nulls":25},0,0]
[{"$nulls":25},0,0]
[{"$nulls":25},0,0]
[{"$nulls":25},0,0]
[{"$nulls":25},0,0]
[{"$nulls":25},0,0]
[{"$nulls":25},0,0]
[{"$nulls":25},0,0]
[{"$nulls":25},{"$f":"MAX(D64,J64)","v":0},0]
[{"$nulls":25},0,{"$f":"MAX(P65,V65)","v":0}]
[{"$nulls":25},0,0]
[{"$nulls":25},0,0]
[{"$nulls":25},0,0]
[{"$nulls":25},0,0]
[{"$nulls":25},0,0]
[{"$nulls":25},0,0]
[{"$nulls":25},0,0]
[{"$nulls":25},0,0]
[{"$nulls":25},0,0]
[{"$nulls":25},0,0]
[{"$nulls":25},0,0]
[{"$nulls":25},0,0]

{"sheet":"谐波抑制","index":2,"n_rows":14,"n_cols":53,"rows_kept":14,"cut":false,"hidden":false,"merged":[]}
["测试名称","下限","上限","测试值","通过",null,"测试名称","下限","上限","测试值","通过",11]
["通道1-谐波抑制测试-2201.5MHz",50,999,61.21,"是",{"$nulls":6},{"$f":"MIN(D2,J2)","v":61.21},"通道1-2次-谐波抑制测试-2201.5MHz",50,999,0,"是",{"$nulls":7},"通道1-3次-谐波抑制测试-2201.5MHz",50,999,0,"是",{"$nulls":7},"通道1-4次-谐波抑制测试-2201.5MHz",50,999,0,"是",{"$nulls":7},"通道1-5次-谐波抑制测试-2201.5MHz",50,999,0,"是"]
["通道1-谐波抑制测试-2206.5MHz",50,999,60.18,"是",{"$nulls":6},{"$f":"MIN(D3,J3)","v":60.18},"通道1-2次-谐波抑制测试-2206.5MHz",50,999,0,"是",{"$nulls":7},"通道1-3次-谐波抑制测试-2206.5MHz",50,999,0,"是",{"$nulls":7},"通道1-4次-谐波抑制测试-2206.5MHz",50,999,0,"是",{"$nulls":7},"通道1-5次-谐波抑制测试-2206.5MHz",50,999,0,"是"]
["通道1-谐波抑制测试-2216.5MHz",50,999,59.46,"是",{"$nulls":6},59.46,"通道1-2次-谐波抑制测试-2216.5MHz",50,999,0,"是",{"$nulls":7},"通道1-3次-谐波抑制测试-2216.5MHz",50,999,0,"是",{"$nulls":7},"通道1-4次-谐波抑制测试-2216.5MHz",50,999,0,"是",{"$nulls":7},"通道1-5次-谐波抑制测试-2216.5MHz",50,999,0,"是"]
["通道1-谐波抑制测试-2226.5MHz",50,999,71.84,"是",{"$nulls":6},71.84,"通道1-2次-谐波抑制测试-2226.5MHz",50,999,0,"是",{"$nulls":7},"通道1-3次-谐波抑制测试-2226.5MHz",50,999,0,"是",{"$nulls":7},"通道1-4次-谐波抑制测试-2226.5MHz",50,999,0,"是",{"$nulls":7},"通道1-5次-谐波抑制测试-2226.5MHz",50,999,0,"是"]
["通道1-谐波抑制测试-2236.5MHz",50,999,64.64,"是",{"$nulls":6},64.64,"通道1-2次-谐波抑制测试-2236.5MHz",50,999,0,"是",{"$nulls":7},"通道1-3次-谐波抑制测试-2236.5MHz",50,999,0,"是",{"$nulls":7},"通道1-4次-谐波抑制测试-2236.5MHz",50,999,0,"是",{"$nulls":7},"通道1-5次-谐波抑制测试-2236.5MHz",50,999,0,"是"]
["通道1-谐波抑制测试-2246.5MHz",50,999,70.42,"是",{"$nulls":6},70.42,"通道1-2次-谐波抑制测试-2246.5MHz",50,999,0,"是",{"$nulls":7},"通道1-3次-谐波抑制测试-2246.5MHz",50,999,0,"是",{"$nulls":7},"通道1-4次-谐波抑制测试-2246.5MHz",50,999,0,"是",{"$nulls":7},"通道1-5次-谐波抑制测试-2246.5MHz",50,999,0,"是"]
["通道1-谐波抑制测试-2250.5MHz",50,999,70.31,"是",{"$nulls":6},70.31,"通道1-2次-谐波抑制测试-2250.5MHz",50,999,0,"是",{"$nulls":7},"通道1-3次-谐波抑制测试-2250.5MHz",50,999,0,"是",{"$nulls":7},"通道1-4次-谐波抑制测试-2250.5MHz",50,999,0,"是",{"$nulls":7},"通道1-5次-谐波抑制测试-2250.5MHz",50,999,0,"是"]
["通道1-谐波抑制测试-2256.5MHz",50,999,78.77,"是",{"$nulls":6},78.77,"通道1-2次-谐波抑制测试-2256.5MHz",50,999,0,"是",{"$nulls":7},"通道1-3次-谐波抑制测试-2256.5MHz",50,999,0,"是",{"$nulls":7},"通道1-4次-谐波抑制测试-2256.5MHz",50,999,0,"是",{"$nulls":7},"通道1-5次-谐波抑制测试-2256.5MHz",50,999,0,"是"]
["通道1-谐波抑制测试-2266.5MHz",50,999,76.99,"是",{"$nulls":6},76.99,"通道1-2次-谐波抑制测试-2266.5MHz",50,999,0,"是",{"$nulls":7},"通道1-3次-谐波抑制测试-2266.5MHz",50,999,0,"是",{"$nulls":7},"通道1-4次-谐波抑制测试-2266.5MHz",50,999,0,"是",{"$nulls":7},"通道1-5次-谐波抑制测试-2266.5MHz",50,999,0,"是"]
["通道1-谐波抑制测试-2276.5MHz",50,999,78.71,"是",{"$nulls":6},78.71,"通道1-2次-谐波抑制测试-2276.5MHz",50,999,0,"是",{"$nulls":7},"通道1-3次-谐波抑制测试-2276.5MHz",50,999,0,"是",{"$nulls":7},"通道1-4次-谐波抑制测试-2276.5MHz",50,999,0,"是",{"$nulls":7},"通道1-5次-谐波抑制测试-2276.5MHz",50,999,0,"是"]
["通道1-谐波抑制测试-2286.5MHz",50,999,82.66,"是",{"$nulls":6},82.66,"通道1-2次-谐波抑制测试-2286.5MHz",50,999,0,"是",{"$nulls":7},"通道1-3次-谐波抑制测试-2286.5MHz",50,999,0,"是",{"$nulls":7},"通道1-4次-谐波抑制测试-2286.5MHz",50,999,0,"是",{"$nulls":7},"通道1-5次-谐波抑制测试-2286.5MHz",50,999,0,"是"]
["通道1-谐波抑制测试-2296.5MHz",50,999,75.98,"是",{"$nulls":6},75.98,"通道1-2次-谐波抑制测试-2296.5MHz",50,999,0,"是",{"$nulls":7},"通道1-3次-谐波抑制测试-2296.5MHz",50,999,0,"是",{"$nulls":7},"通道1-4次-谐波抑制测试-2296.5MHz",50,999,0,"是",{"$nulls":7},"通道1-5次-谐波抑制测试-2296.5MHz",50,999,0,"是"]
["通道1-谐波抑制测试-2299.5MHz",50,999,76.15,"是",{"$nulls":6},76.15,"通道1-2次-谐波抑制测试-2299.5MHz",50,999,0,"是",{"$nulls":7},"通道1-3次-谐波抑制测试-2299.5MHz",50,999,0,"是",{"$nulls":7},"通道1-4次-谐波抑制测试-2299.5MHz",50,999,0,"是",{"$nulls":7},"通道1-5次-谐波抑制测试-2299.5MHz",50,999,0,"是"]

{"sheet":"杂波抑制","index":3,"n_rows":14,"n_cols":24,"rows_kept":14,"cut":false,"hidden":false,"merged":[]}
["测试名称","下限","上限","测试值","通过",null,"测试名称","下限","上限","测试值","通过","2个通道15个频点最小值",{"$nulls":5},"测试名称","下限","上限","测试值","通过","2个通道15个频点最小值"]
["通道1-杂波抑制测试-2201.5MHz",50,999,57.11,"是",{"$nulls":6},{"$f":"MIN(D2,J2)","v":57.11},"通道1-1268MHz杂波抑制测试-2201.5MHz",110,999,123.23,"是",{"$nulls":5},{"$f":"MIN(O2,U2)","v":999},{"$f":"MIN(P2,V2)","v":123.23}]
["通道1-杂波抑制测试-2206.5MHz",50,999,56.24,"是",{"$nulls":6},{"$f":"MIN(D3,J3)","v":56.24},"通道1-1268MHz杂波抑制测试-2206.5MHz",110,999,121.71,"是",{"$nulls":5},999,{"$f":"MIN(P3,V3)","v":121.71}]
["通道1-杂波抑制测试-2216.5MHz",50,999,57.93,"是",{"$nulls":6},57.93,"通道1-1268MHz杂波抑制测试-2216.5MHz",110,999,122.89,"是",{"$nulls":5},999,122.89]
["通道1-杂波抑制测试-2226.5MHz",50,999,62.89,"是",{"$nulls":6},62.89,"通道1-1268MHz杂波抑制测试-2226.5MHz",110,999,123.24,"是",{"$nulls":5},999,123.24]
["通道1-杂波抑制测试-2236.5MHz",50,999,57.1,"是",{"$nulls":6},57.1,"通道1-1268MHz杂波抑制测试-2236.5MHz",110,999,123.18,"是",{"$nulls":5},999,123.18]
["通道1-杂波抑制测试-2246.5MHz",50,999,60.24,"是",{"$nulls":6},60.24,"通道1-1268MHz杂波抑制测试-2246.5MHz",110,999,123.6,"是",{"$nulls":5},999,123.6]
["通道1-杂波抑制测试-2250.5MHz",50,999,60.63,"是",{"$nulls":6},60.63,"通道1-1268MHz杂波抑制测试-2250.5MHz",110,999,124.7,"是",{"$nulls":5},999,124.7]
["通道1-杂波抑制测试-2256.5MHz",50,999,65.15,"是",{"$nulls":6},65.15,"通道1-1268MHz杂波抑制测试-2256.5MHz",110,999,123.46,"是",{"$nulls":5},999,123.46]
["通道1-杂波抑制测试-2266.5MHz",50,999,58.3,"是",{"$nulls":6},58.3,"通道1-1268MHz杂波抑制测试-2266.5MHz",110,999,124.93,"是",{"$nulls":5},999,124.93]
["通道1-杂波抑制测试-2276.5MHz",50,999,54.04,"是",{"$nulls":6},54.04,"通道1-1268MHz杂波抑制测试-2276.5MHz",110,999,122.75,"是",{"$nulls":5},999,122.75]
["通道1-杂波抑制测试-2286.5MHz",50,999,56.18,"是",{"$nulls":6},56.18,"通道1-1268MHz杂波抑制测试-2286.5MHz",110,999,122.3,"是",{"$nulls":5},999,122.3]
["通道1-杂波抑制测试-2296.5MHz",50,999,56,"是",{"$nulls":6},56,"通道1-1268MHz杂波抑制测试-2296.5MHz",110,999,123.34,"是",{"$nulls":5},999,123.34]
["通道1-杂波抑制测试-2299.5MHz",50,999,58.6,"是",{"$nulls":6},58.6,"通道1-1268MHz杂波抑制测试-2299.5MHz",110,999,124.01,"是",{"$nulls":5},999,124.01]

{"sheet":"调制系数","index":4,"n_rows":16,"n_cols":71,"rows_kept":16,"cut":false,"hidden":false,"merged":[]}
["测试名称","下限","上限","测试值","通过",null,"测试名称","下限","上限","测试值","通过",null,"测试名称","下限","上限","测试值","通过",null,"测试名称","下限","上限","测试值","通过","返回偏离0.7最大的值","测试名称","下限","上限","测试值","通过",null,"测试名称","下限","上限","测试值","通过",null,"测试名称","下限","上限","测试值","通过",null,"测试名称","下限","上限","测试值","通过",null,"测试名称","下限","上限","测试值","通过",null,"测试名称","下限","上限","测试值","通过",null,"测试名称","下限","上限","测试值","通过",null,"测试名称","下限","上限","测试值","通过"]
["通道1-调制系数测试-2238.5MHz",0.6,0.8,0.66,"是",{"$nulls":7},"通道1-最大频偏(KHz)-2238.5MHz","/","/",270.34,"是",{"$nulls":6},{"$f":"D2","v":0.66},"通道1-fL调制系数测试-2238.5MHz",0,0,0.665,"是",{"$nulls":7},"通道1-fL(KHz)-2238.5MHz","/","/",272.38,"是",{"$nulls":7},"通道1-fH调制系数测试-2238.5MHz",0,0,0.66,"是",{"$nulls":7},"通道1-fH(KHz)-2238.5MHz","/","/",270.34,"是"]
["通道1-调制系数测试-2268.5MHz",0.6,0.8,0.67,"是",{"$nulls":7},"通道1-最大频偏(KHz)-2268.5MHz","/","/",274.43,"是",{"$nulls":6},{"$f":"D3","v":0.67},"通道1-fL调制系数测试-2268.5MHz",0,0,0.67,"是",{"$nulls":7},"通道1-fL(KHz)-2268.5MHz","/","/",274.43,"是",{"$nulls":7},"通道1-fH调制系数测试-2268.5MHz",0,0,0.67,"是",{"$nulls":7},"通道1-fH(KHz)-2268.5MHz","/","/",274.43,"是"]
["通道1-调制系数测试-2226.5MHz",0.6,0.8,0.72,"是",{"$nulls":7},"通道1-最大频偏(KHz)-2226.5MHz","/","/",294.91,"是",{"$nulls":6},0.72,"通道1-fL调制系数测试-2226.5MHz",0,0,0.73,"是",{"$nulls":7},"通道1-fL(KHz)-2226.5MHz","/","/",299.01,"是",{"$nulls":7},"通道1-fH调制系数测试-2226.5MHz",0,0,0.72,"是",{"$nulls":7},"通道1-fH(KHz)-2226.5MHz","/","/",294.91,"是"]
["通道1-调制系数测试-2286.5MHz",0.6,0.8,0.69,"是",{"$nulls":7},"通道1-最大频偏(KHz)-2286.5MHz","/","/",282.62,"是",{"$nulls":6},0.69,"通道1-fL调制系数测试-2286.5MHz",0,0,0.7,"是",{"$nulls":7},"通道1-fL(KHz)-2286.5MHz","/","/",286.72,"是",{"$nulls":7},"通道1-fH调制系数测试-2286.5MHz",0,0,0.69,"是",{"$nulls":7},"通道1-fH(KHz)-2286.5MHz","/","/",282.62,"是"]
["通道1-调制系数测试-2250.5MHz",0.6,0.8,0.61,"是",{"$nulls":7},"通道1-最大频偏(KHz)-2250.5MHz","/","/",249.86,"是",{"$nulls":6},0.61,"通道1-fL调制系数测试-2250.5MHz",0,0,0.61,"是",{"$nulls":7},"通道1-fL(KHz)-2250.5MHz","/","/",249.86,"是",{"$nulls":7},"通道1-fH调制系数测试-2250.5MHz",0,0,0.625,"是",{"$nulls":7},"通道1-fH(KHz)-2250.5MHz","/","/",256,"是"]
["通道1-调制系数测试-2280.5MHz",0.6,0.8,0.7,"是",{"$nulls":7},"通道1-最大频偏(KHz)-2280.5MHz","/","/",286.72,"是",{"$nulls":6},0.7,"通道1-fL调制系数测试-2280.5MHz",0,0,0.7,"是",{"$nulls":7},"通道1-fL(KHz)-2280.5MHz","/","/",286.72,"是",{"$nulls":7},"通道1-fH调制系数测试-2280.5MHz",0,0,0.71,"是",{"$nulls":7},"通道1-fH(KHz)-2280.5MHz","/","/",290.82,"是"]
["通道1-调制系数测试-2214.5MHz",0.6,0.8,0.775,"是",{"$nulls":7},"通道1-最大频偏(KHz)-2214.5MHz","/","/",317.44,"是",{"$nulls":6},0.775,"通道1-fL调制系数测试-2214.5MHz",0,0,0.775,"是",{"$nulls":7},"通道1-fL(KHz)-2214.5MHz","/","/",317.44,"是",{"$nulls":7},"通道1-fH调制系数测试-2214.5MHz",0,0,0.775,"是",{"$nulls":7},"通道1-fH(KHz)-2214.5MHz","/","/",317.44,"是"]
["通道1-调制系数测试-2244.5MHz",0.6,0.8,0.64,"是",{"$nulls":7},"通道1-最大频偏(KHz)-2244.5MHz","/","/",262.14,"是",{"$nulls":6},0.64,"通道1-fL调制系数测试-2244.5MHz",0,0,0.64,"是",{"$nulls":7},"通道1-fL(KHz)-2244.5MHz","/","/",262.14,"是",{"$nulls":7},"通道1-fH调制系数测试-2244.5MHz",0,0,0.64,"是",{"$nulls":7},"通道1-fH(KHz)-2244.5MHz","/","/",262.14,"是"]
["通道1-调制系数测试-2256.5MHz",0.6,0.8,0.62,"是",{"$nulls":7},"通道1-最大频偏(KHz)-2256.5MHz","/","/",253.95,"是",{"$nulls":6},0.62,"通道1-fL调制系数测试-2256.5MHz",0,0,0.625,"是",{"$nulls":7},"通道1-fL(KHz)-2256.5MHz","/","/",256,"是",{"$nulls":7},"通道1-fH调制系数测试-2256.5MHz",0,0,0.62,"是",{"$nulls":7},"通道1-fH(KHz)-2256.5MHz","/","/",253.95,"是"]
["通道1-调制系数测试-2262.5MHz",0.6,0.8,0.62,"是",{"$nulls":7},"通道1-最大频偏(KHz)-2262.5MHz","/","/",253.95,"是",{"$nulls":6},0.62,"通道1-fL调制系数测试-2262.5MHz",0,0,0.62,"是",{"$nulls":7},"通道1-fL(KHz)-2262.5MHz","/","/",253.95,"是",{"$nulls":7},"通道1-fH调制系数测试-2262.5MHz",0,0,0.65,"是",{"$nulls":7},"通道1-fH(KHz)-2262.5MHz","/","/",266.24,"是"]
["通道1-调制系数测试-2232.5MHz",0.6,0.8,0.68,"是",{"$nulls":7},"通道1-最大频偏(KHz)-2232.5MHz","/","/",278.53,"是",{"$nulls":6},0.68,"通道1-fL调制系数测试-2232.5MHz",0,0,0.68,"是",{"$nulls":7},"通道1-fL(KHz)-2232.5MHz","/","/",278.53,"是",{"$nulls":7},"通道1-fH调制系数测试-2232.5MHz",0,0,0.695,"是",{"$nulls":7},"通道1-fH(KHz)-2232.5MHz","/","/",284.67,"是"]
["通道1-调制系数测试-2274.5MHz",0.6,0.8,0.71,"是",{"$nulls":7},"通道1-最大频偏(KHz)-2274.5MHz","/","/",290.82,"是",{"$nulls":6},0.71,"通道1-fL调制系数测试-2274.5MHz",0,0,0.715,"是",{"$nulls":7},"通道1-fL(KHz)-2274.5MHz","/","/",292.86,"是",{"$nulls":7},"通道1-fH调制系数测试-2274.5MHz",0,0,0.71,"是",{"$nulls":7},"通道1-fH(KHz)-2274.5MHz","/","/",290.82,"是"]
["通道1-调制系数测试-2220.5MHz",0.6,0.8,0.76,"是",{"$nulls":7},"通道1-最大频偏(KHz)-2220.5MHz","/","/",311.3,"是",{"$nulls":6},0.76,"通道1-fL调制系数测试-2220.5MHz",0,0,0.76,"是",{"$nulls":7},"通道1-fL(KHz)-2220.5MHz","/","/",311.3,"是",{"$nulls":7},"通道1-fH调制系数测试-2220.5MHz",0,0,0.765,"是",{"$nulls":7},"通道1-fH(KHz)-2220.5MHz","/","/",313.34,"是"]
["通道1-调制系数测试-2208.5MHz",0.6,0.8,0.77,"是",{"$nulls":7},"通道1-最大频偏(KHz)-2208.5MHz","/","/",315.39,"是",{"$nulls":6},0.77,"通道1-fL调制系数测试-2208.5MHz",0,0,0.77,"是",{"$nulls":7},"通道1-fL(KHz)-2208.5MHz","/","/",315.39,"是",{"$nulls":7},"通道1-fH调制系数测试-2208.5MHz",0,0,0.77,"是",{"$nulls":7},"通道1-fH(KHz)-2208.5MHz","/","/",315.39,"是"]
["通道1-调制系数测试-2292.5MHz",0.6,0.8,0.655,"是",{"$nulls":7},"通道1-最大频偏(KHz)-2292.5MHz","/","/",268.29,"是",{"$nulls":6},0.655,"通道1-fL调制系数测试-2292.5MHz",0,0,0.665,"是",{"$nulls":7},"通道1-fL(KHz)-2292.5MHz","/","/",272.38,"是",{"$nulls":7},"通道1-fH调制系数测试-2292.5MHz",0,0,0.655,"是",{"$nulls":7},"通道1-fH(KHz)-2292.5MHz","/","/",268.29,"是"]

{"sheet":"功率及频率稳定度","index":5,"n_rows":30,"n_cols":27,"rows_kept":30,"cut":false,"hidden":false,"merged":[]}
["测试名称","下限","上限","测试值","通过",null,"测试名称","下限","上限","测试值","通过",null,"测试名称","下限","上限","测试值","通过",null,"测试名称","下限","上限","测试值","通过","理论中心频率","偏离中心频率最大值","功率总和（W）","功率不平度(dB)"]
["通道1-功率测试(W)-2201.5MHz",4,999,13.62,"是",{"$f":"10*LOG(D2*1000)","v":41.3417710757677},{"$nulls":6},"通道1-频率测试(MHz)-2201.5MHz",2201.39,2201.61,2201.524,"是",{"$nulls":6},{"$f":"常温测试!C6","v":2201.5},{"$f":"IF(ABS(P2-X2)>ABS(V2-X2),P2,V2)","v":0},{"$f":"D2+J2","v":13.62},{"$f":"ROUND(ABS(10*LOG10(D2*1000)-10*LOG10(J2*1000)),2)","v":{"$error":"#NUM!"}}]
["通道1-功率测试(W)-2206.5MHz",4,999,12.4,"是",{"$f":"10*LOG(D3*1000)","v":40.9342168516223},{"$nulls":6},"通道1-频率测试(MHz)-2206.5MHz",2206.39,2206.61,2206.522,"是",{"$nulls":6},{"$f":"常温测试!C7","v":2206.5},0,12.4,{"$error":"#NUM!"}]
["通道1-功率测试(W)-2216.5MHz",4,999,13.05,"是",41.156105116743,{"$nulls":6},"通道1-频率测试(MHz)-2216.5MHz",2216.389,2216.611,2216.521,"是",{"$nulls":6},{"$f":"常温测试!C8","v":2216.5},0,13.05,{"$error":"#NUM!"}]
["通道1-功率测试(W)-2226.5MHz",4,999,15.8,"是",41.9865708695442,{"$nulls":6},"通道1-频率测试(MHz)-2226.5MHz",2226.389,2226.611,2226.52,"是",{"$nulls":6},{"$f":"常温测试!C9","v":2226.5},0,15.8,{"$error":"#NUM!"}]
["通道1-功率测试(W)-2236.5MHz",4,999,13.6,"是",41.3353890837022,{"$nulls":6},"通道1-频率测试(MHz)-2236.5MHz",2236.389,2236.612,2236.519,"是",{"$nulls":6},{"$f":"常温测试!C10","v":2236.5},0,13.6,{"$error":"#NUM!"}]
["通道1-功率测试(W)-2246.5MHz",4,999,14.01,"是",41.4643813528577,{"$nulls":6},"通道1-频率测试(MHz)-2246.5MHz",2246.388,2246.612,2246.518,"是",{"$nulls":6},{"$f":"常温测试!C11","v":2246.5},0,14.01,{"$error":"#NUM!"}]
["通道1-功率测试(W)-2250.5MHz",4,999,13.94,"是",41.4426277376199,{"$nulls":6},"通道1-频率测试(MHz)-2250.5MHz",2250.387,2250.613,2250.517,"是",{"$nulls":6},{"$f":"常温测试!C12","v":2250.5},0,13.94,{"$error":"#NUM!"}]
["通道1-功率测试(W)-2256.5MHz",4,999,15.2,"是",41.8184358794477,{"$nulls":6},"通道1-频率测试(MHz)-2256.5MHz",2256.387,2256.613,2256.516,"是",{"$nulls":6},{"$f":"常温测试!C13","v":2256.5},0,15.2,{"$error":"#NUM!"}]
["通道1-功率测试(W)-2266.5MHz",4,999,14.64,"是",41.6554107672237,{"$nulls":6},"通道1-频率测试(MHz)-2266.5MHz",2266.387,2266.613,2266.515,"是",{"$nulls":6},{"$f":"常温测试!C14","v":2266.5},0,14.64,{"$error":"#NUM!"}]
["通道1-功率测试(W)-2276.5MHz",4,999,13.07,"是",41.1627558758054,{"$nulls":6},"通道1-频率测试(MHz)-2276.5MHz",2276.386,2276.614,2276.515,"是",{"$nulls":6},{"$f":"常温测试!C15","v":2276.5},0,13.07,{"$error":"#NUM!"}]
["通道1-功率测试(W)-2286.5MHz",4,999,14.44,"是",41.5956719323362,{"$nulls":6},"通道1-频率测试(MHz)-2286.5MHz",2286.386,2286.614,2286.514,"是",{"$nulls":6},{"$f":"常温测试!C16","v":2286.5},0,14.44,{"$error":"#NUM!"}]
["通道1-功率测试(W)-2296.5MHz",4,999,14.07,"是",41.4829409743475,{"$nulls":6},"通道1-频率测试(MHz)-2296.5MHz",2296.385,2296.615,2296.513,"是",{"$nulls":6},{"$f":"常温测试!C17","v":2296.5},0,14.07,{"$error":"#NUM!"}]
["通道1-功率测试(W)-2299.5MHz",4,999,13.05,"是",41.156105116743,{"$nulls":6},"通道1-频率测试(MHz)-2299.5MHz",2299.385,2299.615,2299.512,"是",{"$nulls":6},{"$f":"常温测试!C18","v":2299.5},0,13.05,{"$error":"#NUM!"}]
[{"$nulls":5},{"$error":"#NUM!"},{"$nulls":18},{"$f":"IF(ABS(P15-X15)>ABS(V15-X15),P15,V15)","v":0},{"$f":"D15+J15","v":0},{"$f":"ROUND(ABS(10*LOG10(D15*1000)-10*LOG10(J15*1000)),2)","v":{"$error":"#NUM!"}}]
[{"$nulls":24},0,0,{"$error":"#NUM!"}]
[{"$nulls":24},0,0,{"$error":"#NUM!"}]
[{"$nulls":24},0,0,{"$error":"#NUM!"}]
[{"$nulls":24},0,0,{"$error":"#NUM!"}]
[{"$nulls":24},0,0,{"$error":"#NUM!"}]
[{"$nulls":24},0,0,{"$error":"#NUM!"}]
[{"$nulls":24},0,0,{"$error":"#NUM!"}]
[{"$nulls":24},0,0,{"$error":"#NUM!"}]
[{"$nulls":24},0,0,{"$error":"#NUM!"}]
[{"$nulls":24},0,0,{"$error":"#NUM!"}]
[{"$nulls":24},0,0,{"$error":"#NUM!"}]
[{"$nulls":24},0,0,{"$error":"#NUM!"}]
[{"$nulls":25},0,{"$error":"#NUM!"}]
[{"$nulls":25},0,{"$error":"#NUM!"}]
[{"$nulls":25},0,{"$error":"#NUM!"}]

{"sheet":"FSK调制系数","index":6,"n_rows":14,"n_cols":23,"rows_kept":14,"cut":false,"hidden":false,"merged":[]}
["测试名称","下限","上限","测试值","通过",null,"测试名称","下限","上限","测试值","通过",null,"测试名称","下限","上限","测试值","通过",null,"测试名称","下限","上限","测试值","通过"]
["通道1-FSK调制系数测试-2201.5MHz",0.6,0.8,0.7,"是",{"$nulls":7},"通道1-FSK最大频偏(MHz)-2201.5MHz","/","/",2.31,"是"]
["通道1-FSK调制系数测试-2206.5MHz",0.6,0.8,0.7,"是",{"$nulls":7},"通道1-FSK最大频偏(MHz)-2206.5MHz","/","/",2.3,"是"]
["通道1-FSK调制系数测试-2216.5MHz",0.6,0.8,0.7,"是",{"$nulls":7},"通道1-FSK最大频偏(MHz)-2216.5MHz","/","/",2.3,"是"]
["通道1-FSK调制系数测试-2226.5MHz",0.6,0.8,0.7,"是",{"$nulls":7},"通道1-FSK最大频偏(MHz)-2226.5MHz","/","/",2.3,"是"]
["通道1-FSK调制系数测试-2236.5MHz",0.6,0.8,0.7,"是",{"$nulls":7},"通道1-FSK最大频偏(MHz)-2236.5MHz","/","/",2.3,"是"]
["通道1-FSK调制系数测试-2246.5MHz",0.6,0.8,0.7,"是",{"$nulls":7},"通道1-FSK最大频偏(MHz)-2246.5MHz","/","/",2.31,"是"]
["通道1-FSK调制系数测试-2250.5MHz",0.6,0.8,0.7,"是",{"$nulls":7},"通道1-FSK最大频偏(MHz)-2250.5MHz","/","/",2.3,"是"]
["通道1-FSK调制系数测试-2256.5MHz",0.6,0.8,0.7,"是",{"$nulls":7},"通道1-FSK最大频偏(MHz)-2256.5MHz","/","/",2.3,"是"]
["通道1-FSK调制系数测试-2266.5MHz",0.6,0.8,0.7,"是",{"$nulls":7},"通道1-FSK最大频偏(MHz)-2266.5MHz","/","/",2.3,"是"]
["通道1-FSK调制系数测试-2276.5MHz",0.6,0.8,0.7,"是",{"$nulls":7},"通道1-FSK最大频偏(MHz)-2276.5MHz","/","/",2.3,"是"]
["通道1-FSK调制系数测试-2286.5MHz",0.6,0.8,0.7,"是",{"$nulls":7},"通道1-FSK最大频偏(MHz)-2286.5MHz","/","/",2.31,"是"]
["通道1-FSK调制系数测试-2296.5MHz",0.6,0.8,0.7,"是",{"$nulls":7},"通道1-FSK最大频偏(MHz)-2296.5MHz","/","/",2.31,"是"]
["通道1-FSK调制系数测试-2299.5MHz",0.6,0.8,0.7,"是",{"$nulls":7},"通道1-FSK最大频偏(MHz)-2299.5MHz","/","/",2.3,"是"]

{"sheet":"噪声功率谱密度","index":7,"n_rows":3,"n_cols":23,"rows_kept":3,"cut":false,"hidden":false,"merged":[]}
["测试名称","下限","上限","测试值","通过",null,"测试名称","下限","上限","测试值","通过",null,"测试名称","下限","上限","测试值","通过",null,"测试名称","下限","上限","测试值","通过"]
["通道1-噪声功率谱密度(dBm/Hz)-2201.5MHz",-999,-70,-75.35,"是"]
["通道1-噪声功率谱密度(dBm/Hz)-2206.5MHz",-999,-70,-75.35,"是"]

{"sheet":"相位噪声","index":8,"n_rows":2,"n_cols":29,"rows_kept":2,"cut":false,"hidden":false,"merged":[]}
["测试名称","下限","上限","测试值","通过",null,"测试名称","下限","上限","测试值","通过",null,"测试名称","下限","上限","测试值","通过",null,"测试名称","下限","上限","测试值","通过"]
["通道1-相位噪声(dBc/Hz)-2201.5MHz",-999,-70,-42.79,"否",{"$nulls":7},"通道1-1KHz-相位噪声(dBc/Hz)-2201.5MHz",-999,-70,0,"否",{"$nulls":7},"通道1-10KHz-相位噪声(dBc/Hz)-2201.5MHz",-999,-70,0,"否"]

{"sheet":"功率(功率计)","index":9,"n_rows":14,"n_cols":23,"rows_kept":14,"cut":false,"hidden":false,"merged":[]}
["测试名称","下限","上限","测试值","通过",null,"测试名称","下限","上限","测试值","通过",null,"测试名称","下限","上限","测试值","通过",null,"测试名称","下限","上限","测试值","通过"]
[{"$nulls":6},"通道2-功率测试(功率计)(W)-2201.5MHz",4,999,4.26,"是"]
[{"$nulls":6},"通道2-功率测试(功率计)(W)-2206.5MHz",4,999,4.09,"是"]
[{"$nulls":6},"通道2-功率测试(功率计)(W)-2216.5MHz",4,999,4.24,"是"]
[{"$nulls":6},"通道2-功率测试(功率计)(W)-2226.5MHz",4,999,4.78,"是"]
[{"$nulls":6},"通道2-功率测试(功率计)(W)-2236.5MHz",4,999,4.56,"是"]
[{"$nulls":6},"通道2-功率测试(功率计)(W)-2246.5MHz",4,999,4.35,"是"]
[{"$nulls":6},"通道2-功率测试(功率计)(W)-2250.5MHz",4,999,4.5,"是"]
[{"$nulls":6},"通道2-功率测试(功率计)(W)-2256.5MHz",4,999,4.78,"是"]
[{"$nulls":6},"通道2-功率测试(功率计)(W)-2266.5MHz",4,999,4.84,"是"]
[{"$nulls":6},"通道2-功率测试(功率计)(W)-2276.5MHz",4,999,4.57,"是"]
[{"$nulls":6},"通道2-功率测试(功率计)(W)-2286.5MHz",4,999,4.74,"是"]
[{"$nulls":6},"通道2-功率测试(功率计)(W)-2296.5MHz",4,999,4.69,"是"]
[{"$nulls":6},"通道2-功率测试(功率计)(W)-2299.5MHz",4,999,4.6,"是"]

{"sheet":"测试信息","index":10,"n_rows":2,"n_cols":5,"rows_kept":2,"cut":false,"hidden":false,"merged":[]}
["序列号","检验员","测试日期","温度","湿度"]
[11,"李朵","2021-11-22","26℃","60%RH"]

{"sheet":"Sheet1","index":11,"n_rows":0,"n_cols":0,"rows_kept":0,"cut":false,"hidden":false,"merged":[]}

{"sheet":"Sheet2","index":12,"n_rows":0,"n_cols":0,"rows_kept":0,"cut":false,"hidden":false,"merged":[]}