{"text_format":"2","workbook":"xlsx","n_sheets":7,"sheets":["常温测试","电压及电流","谐波抑制","杂波抑制","调制系数","功率及频率稳定度","测试信息"],"not_rendered":{"charts":0,"images":0,"macros":0,"external_links":0,"defined_names":0,"comments":0,"pivot_tables":0},"unopened":[],"bounds":{"document_bytes":16777216,"sheet_cells":100000,"run_cost":"one","rows_first":2000,"rows_last":500,"rows_between":2000,"halvings":0,"cell_chars":16384,"cell_head_chars":4096},"cells_cut":0,"cells_raw":0,"read":"whole","date_system":"1900"}

{"sheet":"常温测试","index":0,"n_rows":24,"n_cols":15,"rows_kept":24,"cut":false,"hidden":false,"merged":[[22,0,22,3],[22,4,22,5],[22,7,22,14],[3,5,4,5],[5,0,19,0],[21,1,21,14],[20,1,20,14],[3,2,4,2],[3,1,4,1],[3,0,4,0],[5,13,19,13],[5,14,19,14],[0,0,0,14],[1,1,1,14],[2,1,2,14],[3,9,3,10],[3,11,4,11],[3,12,4,12],[3,13,4,13],[3,14,4,14],[3,8,4,8],[3,7,4,7],[3,6,4,6],[3,3,4,3],[3,4,4,4]]}
["(发射机)"]
["测试项目","常温测试"]
["技术要求","依据技术条件中表3的频率代码，逐一在信号源中输入，命令帧格式见技术条件中表2所示，其中的PL为一个字节的频率代码，启动发送后，应在频谱仪上看到与相应的设置理论中心频率对应的频谱，记录实际的中心频率，若|实际频率-理论频率|÷理论频率≤5 X 10-5，则中心频率满足指标要求。调制指数：0.7±0.1；功率：两路总和≥6W,功率不平度不大于1dB；杂波抑制：不小于50dB；谐波抑制：不小于50dB。"]
["产品编号","频率代码\nPL","设定频率\n（MHz）","发射机状态","供电电压\n（V）","消耗电流\n（A）","实际频率\n(MHz)","fL\n(MHz)","调制指数","输出功率(W)",null,"两路功率总和\n(W)","功率不平度\n(dB)","杂波抑制\n（dB）","谐波抑制\n(dB)"]
[{"$nulls":9},"XY1E","XY1F"]
[{"$f":"'测试信息'!A2","v":211006},"1AH",2208.5,"开启",{"$f":"'电压及电流'!Z2","v":27},{"$f":"'电压及电流'!AA2","v":0.8661},{"$f":"'功率及频率稳定度'!Y2","v":2238.507},null,{"$f":"'调制系数'!X2","v":0.64},{"$f":"'功率及频率稳定度'!D2","v":4.37},{"$f":"'功率及频率稳定度'!J2","v":5.34},{"$f":"'功率及频率稳定度'!Z2","v":9.71},{"$f":"'功率及频率稳定度'!AA2","v":0.87},{"$f":"'杂波抑制'!L2","v":75.36},{"$f":"'谐波抑制'!L2","v":71.83}]
[null,"2AH",2214.5,"开启",{"$f":"'电压及电流'!Z3","v":27},{"$f":"'电压及电流'!AA3","v":0.8699},{"$f":"'功率及频率稳定度'!Y3","v":2268.513},null,{"$f":"'调制系数'!X3","v":0.665},{"$f":"'功率及频率稳定度'!D3","v":3.95},{"$f":"'功率及频率稳定度'!J3","v":4.37},{"$f":"'功率及频率稳定度'!Z3","v":8.32},{"$f":"'功率及频率稳定度'!AA3","v":0.44}]
[null,"3AH",2220.5,"开启",{"$f":"'电压及电流'!Z4","v":27},{"$f":"'电压及电流'!AA4","v":0.8636},{"$f":"'功率及频率稳定度'!Y4","v":2226.503},null,{"$f":"'调制系数'!X4","v":0.665},{"$f":"'功率及频率稳定度'!D4","v":4.84},{"$f":"'功率及频率稳定度'!J4","v":4.91},{"$f":"'功率及频率稳定度'!Z4","v":9.75},{"$f":"'功率及频率稳定度'!AA4","v":0.06}]
[null,"4AH",2226.5,"开启",{"$f":"'电压及电流'!Z5","v":27},{"$f":"'电压及电流'!AA5","v":0.8527},{"$f":"'功率及频率稳定度'!Y5","v":2286.516},null,{"$f":"'调制系数'!X5","v":0.62},{"$f":"'功率及频率稳定度'!D5","v":4.95},{"$f":"'功率及频率稳定度'!J5","v":4.14},{"$f":"'功率及频率稳定度'!Z5","v":9.09},{"$f":"'功率及频率稳定度'!AA5","v":0.78}]
[null,"5AH",2232.5,"开启",{"$f":"'电压及电流'!Z6","v":27},{"$f":"'电压及电流'!AA6","v":0.8663},{"$f":"'功率及频率稳定度'!Y6","v":2250.508},null,{"$f":"'调制系数'!X6","v":0.61},{"$f":"'功率及频率稳定度'!D6","v":4.85},{"$f":"'功率及频率稳定度'!J6","v":4.35},{"$f":"'功率及频率稳定度'!Z6","v":9.2},{"$f":"'功率及频率稳定度'!AA6","v":0.47}]
[null,"6AH",2238.5,"开启",{"$f":"'电压及电流'!Z7","v":27},{"$f":"'电压及电流'!AA7","v":0.8597},{"$f":"'功率及频率稳定度'!Y7","v":2280.514},null,{"$f":"'调制系数'!X7","v":0.65},{"$f":"'功率及频率稳定度'!D7","v":4.88},{"$f":"'功率及频率稳定度'!J7","v":4.29},{"$f":"'功率及频率稳定度'!Z7","v":9.17},{"$f":"'功率及频率稳定度'!AA7","v":0.56}]
[null,"7AH",2244.5,"开启",{"$f":"'电压及电流'!Z8","v":27},{"$f":"'电压及电流'!AA8","v":0.8595},{"$f":"'功率及频率稳定度'!Y8","v":2214.498},null,{"$f":"'调制系数'!X8","v":0.745},{"$f":"'功率及频率稳定度'!D8","v":4.12},{"$f":"'功率及频率稳定度'!J8","v":4.68},{"$f":"'功率及频率稳定度'!Z8","v":8.8},{"$f":"'功率及频率稳定度'!AA8","v":0.55}]
[null,"8AH",2250.5,"开启",{"$f":"'电压及电流'!Z9","v":27},{"$f":"'电压及电流'!AA9","v":0.8632},{"$f":"'功率及频率稳定度'!Y9","v":2244.505},null,{"$f":"'调制系数'!X9","v":0.605},{"$f":"'功率及频率稳定度'!D9","v":4.83},{"$f":"'功率及频率稳定度'!J9","v":4.54},{"$f":"'功率及频率稳定度'!Z9","v":9.37},{"$f":"'功率及频率稳定度'!AA9","v":0.27}]
[null,"9AH",2256.5,"开启",{"$f":"'电压及电流'!Z10","v":27},{"$f":"'电压及电流'!AA10","v":0.8446},{"$f":"'功率及频率稳定度'!Y10","v":2256.507},null,{"$f":"'调制系数'!X10","v":0.6},{"$f":"'功率及频率稳定度'!D10","v":4.53},{"$f":"'功率及频率稳定度'!J10","v":4.09},{"$f":"'功率及频率稳定度'!Z10","v":8.62},{"$f":"'功率及频率稳定度'!AA10","v":0.44}]
[null,"AAH",2262.5,"开启",{"$f":"'电压及电流'!Z11","v":27},{"$f":"'电压及电流'!AA11","v":0.764},{"$f":"'功率及频率稳定度'!Y11","v":2262.508},null,{"$f":"'调制系数'!X11","v":0.65},{"$f":"'功率及频率稳定度'!D11","v":4.74},{"$f":"'功率及频率稳定度'!J11","v":3.84},{"$f":"'功率及频率稳定度'!Z11","v":8.58},{"$f":"'功率及频率稳定度'!AA11","v":0.91}]
[null,"BAH",2268.5,"开启",{"$f":"'电压及电流'!Z12","v":27},{"$f":"'电压及电流'!AA12","v":0.749},{"$f":"'功率及频率稳定度'!Y12","v":2232.501},null,{"$f":"'调制系数'!X12","v":0.655},{"$f":"'功率及频率稳定度'!D12","v":3.88},{"$f":"'功率及频率稳定度'!J12","v":3.67},{"$f":"'功率及频率稳定度'!Z12","v":7.55},{"$f":"'功率及频率稳定度'!AA12","v":0.24}]
[null,"CAH",2274.5,"开启",{"$f":"'电压及电流'!Z13","v":27},{"$f":"'电压及电流'!AA13","v":0.7626},{"$f":"'功率及频率稳定度'!Y13","v":2274.51},null,{"$f":"'调制系数'!X13","v":0.675},{"$f":"'功率及频率稳定度'!D13","v":3.8},{"$f":"'功率及频率稳定度'!J13","v":3.79},{"$f":"'功率及频率稳定度'!Z13","v":7.59},{"$f":"'功率及频率稳定度'!AA13","v":0.01}]
[null,"DAH",2280.5,"开启",{"$f":"'电压及电流'!Z14","v":27},{"$f":"'电压及电流'!AA14","v":0.7437},{"$f":"'功率及频率稳定度'!Y14","v":2220.497},null,{"$f":"'调制系数'!X14","v":0.705},{"$f":"'功率及频率稳定度'!D14","v":3.52},{"$f":"'功率及频率稳定度'!J14","v":3.88},{"$f":"'功率及频率稳定度'!Z14","v":7.4},{"$f":"'功率及频率稳定度'!AA14","v":0.42}]
[null,"EAH",2286.5,"开启",{"$f":"'电压及电流'!Z15","v":27},{"$f":"'电压及电流'!AA15","v":0.7389},{"$f":"'功率及频率稳定度'!Y15","v":2208.494},null,{"$f":"'调制系数'!X15","v":0.745},{"$f":"'功率及频率稳定度'!D15","v":3.72},{"$f":"'功率及频率稳定度'!J15","v":3.57},{"$f":"'功率及频率稳定度'!Z15","v":7.29},{"$f":"'功率及频率稳定度'!AA15","v":0.18}]
[null,"FAH",2292.5,"开启",{"$f":"'电压及电流'!Z16","v":27},{"$f":"'电压及电流'!AA16","v":0.7509},{"$f":"'功率及频率稳定度'!Y16","v":2292.513},null,{"$f":"'调制系数'!X16","v":0.58},{"$f":"'功率及频率稳定度'!D16","v":3.72},{"$f":"'功率及频率稳定度'!J16","v":4.01},{"$f":"'功率及频率稳定度'!Z16","v":7.73},{"$f":"'功率及频率稳定度'!AA16","v":0.33}]
["备注"]
["结论","本页检验    台合格，    台不合格。"]
[{"$f":"\"检验员：\"&IF(LEN('测试信息'!B2)=3,'测试信息'!B2,'测试信息'!B2&\"  \")&\"               测试日期：\"","v":"检验员：王杰                 测试日期："},null,null,null,{"$f":"'测试信息'!C2","v":"2021-08-21"},null,null,{"$f":"\"温度：\"&'测试信息'!D2&\"                湿度：\"&MID('测试信息'!E2,1,2)&\"%\"","v":"温度：26℃                湿度：60%"}]
["检验员： ",{"$f":"'测试信息'!B2","v":"王杰"},"测试日期：",{"$f":"'测试信息'!C2","v":"2021-08-21"},"温度：",{"$f":"'测试信息'!D2","v":"26℃"},"湿度：",{"$f":"MID('测试信息'!E2,1,2)","v":"60"},"%"]

{"sheet":"电压及电流","index":1,"n_rows":79,"n_cols":27,"rows_kept":79,"cut":false,"hidden":false,"merged":[]}
["测试名称","下限","上限","测试值","通过",null,"测试名称","下限","上限","测试值","通过",null,"测试名称","下限","上限","测试值","通过",null,"测试名称","下限","上限","测试值","通过",null,null,"两通道电压最大值","两通道电流最大值"]
["通道1-电压测试-2238.5MHz",26,29,27,"是",null,"通道2-电压测试-2238.5MHz",26,29,27,"是",null,"通道1-电流测试-2238.5MHz",0.6,1.2,0.8661,"是",null,"通道2-电流测试-2238.5MHz",0.6,1.2,0.8658,"是",null,null,{"$f":"MAX(D2,J2)","v":27},{"$f":"MAX(P2,V2)","v":0.8661}]
["通道1-电压测试-2268.5MHz",26,29,27,"是",null,"通道2-电压测试-2268.5MHz",26,29,27,"是",null,"通道1-电流测试-2268.5MHz",0.6,1.2,0.8699,"是",null,"通道2-电流测试-2268.5MHz",0.6,1.2,0.8695,"是",null,null,27,{"$f":"MAX(P3,V3)","v":0.8699}]
["通道1-电压测试-2226.5MHz",26,29,27,"是",null,"通道2-电压测试-2226.5MHz",26,29,27,"是",null,"通道1-电流测试-2226.5MHz",0.6,1.2,0.8636,"是",null,"通道2-电流测试-2226.5MHz",0.6,1.2,0.8633,"是",null,null,27,0.8636]
["通道1-电压测试-2286.5MHz",26,29,27,"是",null,"通道2-电压测试-2286.5MHz",26,29,27,"是",null,"通道1-电流测试-2286.5MHz",0.6,1.2,0.8527,"是",null,"通道2-电流测试-2286.5MHz",0.6,1.2,0.8525,"是",null,null,27,0.8527]
["通道1-电压测试-2250.5MHz",26,29,27,"是",null,"通道2-电压测试-2250.5MHz",26,29,27,"是",null,"通道1-电流测试-2250.5MHz",0.6,1.2,0.8663,"是",null,"通道2-电流测试-2250.5MHz",0.6,1.2,0.866,"是",null,null,27,0.8663]
["通道1-电压测试-2280.5MHz",26,29,27,"是",null,"通道2-电压测试-2280.5MHz",26,29,27,"是",null,"通道1-电流测试-2280.5MHz",0.6,1.2,0.8597,"是",null,"通道2-电流测试-2280.5MHz",0.6,1.2,0.8592,"是",null,null,27,0.8597]
["通道1-电压测试-2214.5MHz",26,29,27,"是",null,"通道2-电压测试-2214.5MHz",26,29,27,"是",null,"通道1-电流测试-2214.5MHz",0.6,1.2,0.8595,"是",null,"通道2-电流测试-2214.5MHz",0.6,1.2,0.8592,"是",null,null,27,0.8595]
["通道1-电压测试-2244.5MHz",26,29,27,"是",null,"通道2-电压测试-2244.5MHz",26,29,27,"是",null,"通道1-电流测试-2244.5MHz",0.6,1.2,0.8632,"是",null,"通道2-电流测试-2244.5MHz",0.6,1.2,0.8627,"是",null,null,27,0.8632]
["通道1-电压测试-2256.5MHz",26,29,27,"是",null,"通道2-电压测试-2256.5MHz",26,29,27,"是",null,"通道1-电流测试-2256.5MHz",0.6,1.2,0.8446,"是",null,"通道2-电流测试-2256.5MHz",0.6,1.2,0.8426,"是",null,null,27,0.8446]
["通道1-电压测试-2262.5MHz",26,29,27,"是",null,"通道2-电压测试-2262.5MHz",26,29,27,"是",null,"通道1-电流测试-2262.5MHz",0.6,1.2,0.764,"是",null,"通道2-电流测试-2262.5MHz",0.6,1.2,0.7635,"是",null,null,27,0.764]
["通道1-电压测试-2232.5MHz",26,29,27,"是",null,"通道2-电压测试-2232.5MHz",26,29,27,"是",null,"通道1-电流测试-2232.5MHz",0.6,1.2,0.749,"是",null,"通道2-电流测试-2232.5MHz",0.6,1.2,0.7488,"是",null,null,27,0.749]
["通道1-电压测试-2274.5MHz",26,29,27,"是",null,"通道2-电压测试-2274.5MHz",26,29,27,"是",null,"通道1-电流测试-2274.5MHz",0.6,1.2,0.7626,"是",null,"通道2-电流测试-2274.5MHz",0.6,1.2,0.7623,"是",null,null,27,0.7626]
["通道1-电压测试-2220.5MHz",26,29,27,"是",null,"通道2-电压测试-2220.5MHz",26,29,27,"是",null,"通道1-电流测试-2220.5MHz",0.6,1.2,0.7437,"是",null,"通道2-电流测试-2220.5MHz",0.6,1.2,0.7435,"是",null,null,27,0.7437]
["通道1-电压测试-2208.5MHz",26,29,27,"是",null,"通道2-电压测试-2208.5MHz",26,29,27,"是",null,"通道1-电流测试-2208.5MHz",0.6,1.2,0.7389,"是",null,"通道2-电流测试-2208.5MHz",0.6,1.2,0.7387,"是",null,null,27,0.7389]
["通道1-电压测试-2292.5MHz",26,29,27,"是",null,"通道2-电压测试-2292.5MHz",26,29,27,"是",null,"通道1-电流测试-2292.5MHz",0.6,1.2,0.7509,"是",null,"通道2-电流测试-2292.5MHz",0.6,1.2,0.7508,"是",null,null,27,0.7509]
[{"$nulls":25},0,0]
[{"$nulls":25},0,0]
[{"$nulls":25},0,0]
[{"$nulls":25},0,0]
[{"$nulls":25},0,0]
[{"$nulls":25},0,0]
[{"$nulls":25},0,0]
[{"$nulls":25},0,0]
[{"$nulls":25},0,0]
[{"$nulls":25},0,0]
[{"$nulls":25},0,0]
[{"$nulls":25},0,0]
[{"$nulls":25},0,0]
[{"$nulls":25},0,0]
[{"$nulls":25},0,0]
[{"$nulls":25},0,0]
[{"$nulls":25},0,0]
[{"$nulls":25},{"$f":"MAX(D34,J34)","v":0},0]
[{"$nulls":25},0,0]
[{"$nulls":25},0,0]
[{"$nulls":25},0,0]
[{"$nulls":25},0,0]
[{"$nulls":25},0,0]
[{"$nulls":25},0,0]
[{"$nulls":25},0,0]
[{"$nulls":25},0,0]
[{"$nulls":25},0,0]
[{"$nulls":25},0,0]
[{"$nulls":25},0,0]
[{"$nulls":25},0,0]
[{"$nulls":25},0,0]
[{"$nulls":25},0,0]
[{"$nulls":25},0,0]
[{"$nulls":25},0,0]
[{"$nulls":25},0,0]
[{"$nulls":25},0,0]
[{"$nulls":25},0,0]
[{"$nulls":25},0,0]
[{"$nulls":25},0,0]
[{"$nulls":25},0,0]
[{"$nulls":25},0,0]
[{"$nulls":25},0,0]
[{"$nulls":25},0,0]
[{"$nulls":25},0,0]
[{"$nulls":25},0,0]
[{"$nulls":25},0,0]
[{"$nulls":25},0,0]
[{"$nulls":25},0,0]
[{"$nulls":25},0,0]
[{"$nulls":25},{"$f":"MAX(D66,J66)","v":0},0]
[{"$nulls":25},0,{"$f":"MAX(P67,V67)","v":0}]
[{"$nulls":25},0,0]
[{"$nulls":25},0,0]
[{"$nulls":25},0,0]
[{"$nulls":25},0,0]
[{"$nulls":25},0,0]
[{"$nulls":25},0,0]
[{"$nulls":25},0,0]
[{"$nulls":25},0,0]
[{"$nulls":25},0,0]
[{"$nulls":25},0,0]
[{"$nulls":25},0,0]
[{"$nulls":25},0,0]

{"sheet":"谐波抑制","index":2,"n_rows":16,"n_cols":59,"rows_kept":16,"cut":false,"hidden":false,"merged":[]}
["测试名称","下限","上限","测试值","通过",null,"测试名称","下限","上限","测试值","通过",211006]
["通道1-谐波抑制测试-2238.5MHz",50,"/",80.4,"是",null,"通道2-谐波抑制测试-2238.5MHz",50,"/",80.28,"是",{"$f":"MIN(D2:D16,J2:J16)","v":71.83},"通道1-2次-谐波抑制测试-2238.5MHz",50,"/",0,"是",null,"通道2-2次-谐波抑制测试-2238.5MHz",50,"/",0,"是",null,"通道1-3次-谐波抑制测试-2238.5MHz",50,"/",0,"是",null,"通道2-3次-谐波抑制测试-2238.5MHz",50,"/",0,"是",null,"通道1-4次-谐波抑制测试-2238.5MHz",50,"/",0,"是",null,"通道2-4次-谐波抑制测试-2238.5MHz",50,"/",0,"是",null,"通道1-5次-谐波抑制测试-2238.5MHz",50,"/",0,"是",null,"通道2-5次-谐波抑制测试-2238.5MHz",50,"/",0,"是"]
["通道1-谐波抑制测试-2268.5MHz",50,"/",80.1,"是",null,"通道2-谐波抑制测试-2268.5MHz",50,"/",80.61,"是",null,"通道1-2次-谐波抑制测试-2268.5MHz",50,"/",0,"是",null,"通道2-2次-谐波抑制测试-2268.5MHz",50,"/",0,"是",null,"通道1-3次-谐波抑制测试-2268.5MHz",50,"/",0,"是",null,"通道2-3次-谐波抑制测试-2268.5MHz",50,"/",0,"是",null,"通道1-4次-谐波抑制测试-2268.5MHz",50,"/",0,"是",null,"通道2-4次-谐波抑制测试-2268.5MHz",50,"/",0,"是",null,"通道1-5次-谐波抑制测试-2268.5MHz",50,"/",0,"是",null,"通道2-5次-谐波抑制测试-2268.5MHz",50,"/",0,"是"]
["通道1-谐波抑制测试-2226.5MHz",50,"/",81.4,"是",null,"通道2-谐波抑制测试-2226.5MHz",50,"/",82.14,"是",null,"通道1-2次-谐波抑制测试-2226.5MHz",50,"/",0,"是",null,"通道2-2次-谐波抑制测试-2226.5MHz",50,"/",0,"是",null,"通道1-3次-谐波抑制测试-2226.5MHz",50,"/",0,"是",null,"通道2-3次-谐波抑制测试-2226.5MHz",50,"/",0,"是",null,"通道1-4次-谐波抑制测试-2226.5MHz",50,"/",0,"是",null,"通道2-4次-谐波抑制测试-2226.5MHz",50,"/",0,"是",null,"通道1-5次-谐波抑制测试-2226.5MHz",50,"/",0,"是",null,"通道2-5次-谐波抑制测试-2226.5MHz",50,"/",0,"是"]
["通道1-谐波抑制测试-2286.5MHz",50,"/",74.79,"是",null,"通道2-谐波抑制测试-2286.5MHz",50,"/",74.24,"是",null,"通道1-2次-谐波抑制测试-2286.5MHz",50,"/",0,"是",null,"通道2-2次-谐波抑制测试-2286.5MHz",50,"/",0,"是",null,"通道1-3次-谐波抑制测试-2286.5MHz",50,"/",0,"是",null,"通道2-3次-谐波抑制测试-2286.5MHz",50,"/",0,"是",null,"通道1-4次-谐波抑制测试-2286.5MHz",50,"/",0,"是",null,"通道2-4次-谐波抑制测试-2286.5MHz",50,"/",0,"是",null,"通道1-5次-谐波抑制测试-2286.5MHz",50,"/",0,"是",null,"通道2-5次-谐波抑制测试-2286.5MHz",50,"/",0,"是"]
["通道1-谐波抑制测试-2250.5MHz",50,"/",79.53,"是",null,"通道2-谐波抑制测试-2250.5MHz",50,"/",79.75,"是",null,"通道1-2次-谐波抑制测试-2250.5MHz",50,"/",0,"是",null,"通道2-2次-谐波抑制测试-2250.5MHz",50,"/",0,"是",null,"通道1-3次-谐波抑制测试-2250.5MHz",50,"/",0,"是",null,"通道2-3次-谐波抑制测试-2250.5MHz",50,"/",0,"是",null,"通道1-4次-谐波抑制测试-2250.5MHz",50,"/",0,"是",null,"通道2-4次-谐波抑制测试-2250.5MHz",50,"/",0,"是",null,"通道1-5次-谐波抑制测试-2250.5MHz",50,"/",0,"是",null,"通道2-5次-谐波抑制测试-2250.5MHz",50,"/",0,"是"]
["通道1-谐波抑制测试-2280.5MHz",50,"/",77.08,"是",null,"通道2-谐波抑制测试-2280.5MHz",50,"/",76.56,"是",null,"通道1-2次-谐波抑制测试-2280.5MHz",50,"/",0,"是",null,"通道2-2次-谐波抑制测试-2280.5MHz",50,"/",0,"是",null,"通道1-3次-谐波抑制测试-2280.5MHz",50,"/",0,"是",null,"通道2-3次-谐波抑制测试-2280.5MHz",50,"/",0,"是",null,"通道1-4次-谐波抑制测试-2280.5MHz",50,"/",0,"是",null,"通道2-4次-谐波抑制测试-2280.5MHz",50,"/",0,"是",null,"通道1-5次-谐波抑制测试-2280.5MHz",50,"/",0,"是",null,"通道2-5次-谐波抑制测试-2280.5MHz",50,"/",0,"是"]
["通道1-谐波抑制测试-2214.5MHz",50,"/",77.43,"是",null,"通道2-谐波抑制测试-2214.5MHz",50,"/",77.71,"是",null,"通道1-2次-谐波抑制测试-2214.5MHz",50,"/",0,"是",null,"通道2-2次-谐波抑制测试-2214.5MHz",50,"/",0,"是",null,"通道1-3次-谐波抑制测试-2214.5MHz",50,"/",0,"是",null,"通道2-3次-谐波抑制测试-2214.5MHz",50,"/",0,"是",null,"通道1-4次-谐波抑制测试-2214.5MHz",50,"/",0,"是",null,"通道2-4次-谐波抑制测试-2214.5MHz",50,"/",0,"是",null,"通道1-5次-谐波抑制测试-2214.5MHz",50,"/",0,"是",null,"通道2-5次-谐波抑制测试-2214.5MHz",50,"/",0,"是"]
["通道1-谐波抑制测试-2244.5MHz",50,"/",79.61,"是",null,"通道2-谐波抑制测试-2244.5MHz",50,"/",78.12,"是",null,"通道1-2次-谐波抑制测试-2244.5MHz",50,"/",0,"是",null,"通道2-2次-谐波抑制测试-2244.5MHz",50,"/",0,"是",null,"通道1-3次-谐波抑制测试-2244.5MHz",50,"/",0,"是",null,"通道2-3次-谐波抑制测试-2244.5MHz",50,"/",0,"是",null,"通道1-4次-谐波抑制测试-2244.5MHz",50,"/",0,"是",null,"通道2-4次-谐波抑制测试-2244.5MHz",50,"/",0,"是",null,"通道1-5次-谐波抑制测试-2244.5MHz",50,"/",0,"是",null,"通道2-5次-谐波抑制测试-2244.5MHz",50,"/",0,"是"]
["通道1-谐波抑制测试-2256.5MHz",50,"/",79.77,"是",null,"通道2-谐波抑制测试-2256.5MHz",50,"/",80.03,"是",null,"通道1-2次-谐波抑制测试-2256.5MHz",50,"/",0,"是",null,"通道2-2次-谐波抑制测试-2256.5MHz",50,"/",0,"是",null,"通道1-3次-谐波抑制测试-2256.5MHz",50,"/",0,"是",null,"通道2-3次-谐波抑制测试-2256.5MHz",50,"/",0,"是",null,"通道1-4次-谐波抑制测试-2256.5MHz",50,"/",0,"是",null,"通道2-4次-谐波抑制测试-2256.5MHz",50,"/",0,"是",null,"通道1-5次-谐波抑制测试-2256.5MHz",50,"/",0,"是",null,"通道2-5次-谐波抑制测试-2256.5MHz",50,"/",0,"是"]
["通道1-谐波抑制测试-2262.5MHz",50,"/",79.37,"是",null,"通道2-谐波抑制测试-2262.5MHz",50,"/",79.6,"是",null,"通道1-2次-谐波抑制测试-2262.5MHz",50,"/",0,"是",null,"通道2-2次-谐波抑制测试-2262.5MHz",50,"/",0,"是",null,"通道1-3次-谐波抑制测试-2262.5MHz",50,"/",0,"是",null,"通道2-3次-谐波抑制测试-2262.5MHz",50,"/",0,"是",null,"通道1-4次-谐波抑制测试-2262.5MHz",50,"/",0,"是",null,"通道2-4次-谐波抑制测试-2262.5MHz",50,"/",0,"是",null,"通道1-5次-谐波抑制测试-2262.5MHz",50,"/",0,"是",null,"通道2-5次-谐波抑制测试-2262.5MHz",50,"/",0,"是"]
["通道1-谐波抑制测试-2232.5MHz",50,"/",81.71,"是",null,"通道2-谐波抑制测试-2232.5MHz",50,"/",81.74,"是",null,"通道1-2次-谐波抑制测试-2232.5MHz",50,"/",0,"是",null,"通道2-2次-谐波抑制测试-2232.5MHz",50,"/",0,"是",null,"通道1-3次-谐波抑制测试-2232.5MHz",50,"/",0,"是",null,"通道2-3次-谐波抑制测试-2232.5MHz",50,"/",0,"是",null,"通道1-4次-谐波抑制测试-2232.5MHz",50,"/",0,"是",null,"通道2-4次-谐波抑制测试-2232.5MHz",50,"/",0,"是",null,"通道1-5次-谐波抑制测试-2232.5MHz",50,"/",0,"是",null,"通道2-5次-谐波抑制测试-2232.5MHz",50,"/",0,"是"]
["通道1-谐波抑制测试-2274.5MHz",50,"/",76.59,"是",null,"通道2-谐波抑制测试-2274.5MHz",50,"/",76.86,"是",null,"通道1-2次-谐波抑制测试-2274.5MHz",50,"/",0,"是",null,"通道2-2次-谐波抑制测试-2274.5MHz",50,"/",0,"是",null,"通道1-3次-谐波抑制测试-2274.5MHz",50,"/",0,"是",null,"通道2-3次-谐波抑制测试-2274.5MHz",50,"/",0,"是",null,"通道1-4次-谐波抑制测试-2274.5MHz",50,"/",0,"是",null,"通道2-4次-谐波抑制测试-2274.5MHz",50,"/",0,"是",null,"通道1-5次-谐波抑制测试-2274.5MHz",50,"/",0,"是",null,"通道2-5次-谐波抑制测试-2274.5MHz",50,"/",0,"是"]
["通道1-谐波抑制测试-2220.5MHz",50,"/",78,"是",null,"通道2-谐波抑制测试-2220.5MHz",50,"/",78.21,"是",null,"通道1-2次-谐波抑制测试-2220.5MHz",50,"/",0,"是",null,"通道2-2次-谐波抑制测试-2220.5MHz",50,"/",0,"是",null,"通道1-3次-谐波抑制测试-2220.5MHz",50,"/",0,"是",null,"通道2-3次-谐波抑制测试-2220.5MHz",50,"/",0,"是",null,"通道1-4次-谐波抑制测试-2220.5MHz",50,"/",0,"是",null,"通道2-4次-谐波抑制测试-2220.5MHz",50,"/",0,"是",null,"通道1-5次-谐波抑制测试-2220.5MHz",50,"/",0,"是",null,"通道2-5次-谐波抑制测试-2220.5MHz",50,"/",0,"是"]
["通道1-谐波抑制测试-2208.5MHz",50,"/",78.46,"是",null,"通道2-谐波抑制测试-2208.5MHz",50,"/",78.02,"是",null,"通道1-2次-谐波抑制测试-2208.5MHz",50,"/",0,"是",null,"通道2-2次-谐波抑制测试-2208.5MHz",50,"/",0,"是",null,"通道1-3次-谐波抑制测试-2208.5MHz",50,"/",0,"是",null,"通道2-3次-谐波抑制测试-2208.5MHz",50,"/",0,"是",null,"通道1-4次-谐波抑制测试-2208.5MHz",50,"/",0,"是",null,"通道2-4次-谐波抑制测试-2208.5MHz",50,"/",0,"是",null,"通道1-5次-谐波抑制测试-2208.5MHz",50,"/",0,"是",null,"通道2-5次-谐波抑制测试-2208.5MHz",50,"/",0,"是"]
["通道1-谐波抑制测试-2292.5MHz",50,"/",71.83,"是",null,"通道2-谐波抑制测试-2292.5MHz",50,"/",72.03,"是",null,"通道1-2次-谐波抑制测试-2292.5MHz",50,"/",0,"是",null,"通道2-2次-谐波抑制测试-2292.5MHz",50,"/",0,"是",null,"通道1-3次-谐波抑制测试-2292.5MHz",50,"/",0,"是",null,"通道2-3次-谐波抑制测试-2292.5MHz",50,"/",0,"是",null,"通道1-4次-谐波抑制测试-2292.5MHz",50,"/",0,"是",null,"通道2-4次-谐波抑制测试-2292.5MHz",50,"/",0,"是",null,"通道1-5次-谐波抑制测试-2292.5MHz",50,"/",0,"是",null,"通道2-5次-谐波抑制测试-2292.5MHz",50,"/",0,"是"]

{"sheet":"杂波抑制","index":3,"n_rows":16,"n_cols":12,"rows_kept":16,"cut":false,"hidden":false,"merged":[]}
["测试名称","下限","上限","测试值","通过",null,"测试名称","下限","上限","测试值","通过","2个通道15个频点最小值"]
["通道1-杂波抑制测试-2238.5MHz",50,"/",78.44,"是",null,"通道2-杂波抑制测试-2238.5MHz",50,"/",78.19,"是",{"$f":"MIN(D2:D16,J2:J16)","v":75.36}]
["通道1-杂波抑制测试-2268.5MHz",50,"/",78.72,"是",null,"通道2-杂波抑制测试-2268.5MHz",50,"/",78.4,"是"]
["通道1-杂波抑制测试-2226.5MHz",50,"/",78.27,"是",null,"通道2-杂波抑制测试-2226.5MHz",50,"/",78.49,"是"]
["通道1-杂波抑制测试-2286.5MHz",50,"/",77.38,"是",null,"通道2-杂波抑制测试-2286.5MHz",50,"/",78.04,"是"]
["通道1-杂波抑制测试-2250.5MHz",50,"/",78.7,"是",null,"通道2-杂波抑制测试-2250.5MHz",50,"/",78.61,"是"]
["通道1-杂波抑制测试-2280.5MHz",50,"/",78.87,"是",null,"通道2-杂波抑制测试-2280.5MHz",50,"/",78.77,"是"]
["通道1-杂波抑制测试-2214.5MHz",50,"/",78.01,"是",null,"通道2-杂波抑制测试-2214.5MHz",50,"/",78.39,"是"]
["通道1-杂波抑制测试-2244.5MHz",50,"/",78.39,"是",null,"通道2-杂波抑制测试-2244.5MHz",50,"/",78.35,"是"]
["通道1-杂波抑制测试-2256.5MHz",50,"/",78.75,"是",null,"通道2-杂波抑制测试-2256.5MHz",50,"/",78.71,"是"]
["通道1-杂波抑制测试-2262.5MHz",50,"/",78.28,"是",null,"通道2-杂波抑制测试-2262.5MHz",50,"/",77.82,"是"]
["通道1-杂波抑制测试-2232.5MHz",50,"/",77.16,"是",null,"通道2-杂波抑制测试-2232.5MHz",50,"/",77.49,"是"]
["通道1-杂波抑制测试-2274.5MHz",50,"/",77.86,"是",null,"通道2-杂波抑制测试-2274.5MHz",50,"/",77.62,"是"]
["通道1-杂波抑制测试-2220.5MHz",50,"/",77.56,"是",null,"通道2-杂波抑制测试-2220.5MHz",50,"/",77.22,"是"]
["通道1-杂波抑制测试-2208.5MHz",50,"/",77.49,"是",null,"通道2-杂波抑制测试-2208.5MHz",50,"/",77.54,"是"]
["通道1-杂波抑制测试-2292.5MHz",50,"/",75.36,"是",null,"通道2-杂波抑制测试-2292.5MHz",50,"/",75.8,"是"]

{"sheet":"调制系数","index":4,"n_rows":16,"n_cols":71,"rows_kept":16,"cut":false,"hidden":false,"merged":[]}
["测试名称","下限","上限","测试值","通过",null,"测试名称","下限","上限","测试值","通过",null,"测试名称","下限","上限","测试值","通过",null,"测试名称","下限","上限","测试值","通过","返回偏离0.7最大的值","测试名称","下限","上限","测试值","通过",null,"测试名称","下限","上限","测试值","通过",null,"测试名称","下限","上限","测试值","通过",null,"测试名称","下限","上限","测试值","通过",null,"测试名称","下限","上限","测试值","通过",null,"测试名称","下限","上限","测试值","通过",null,"测试名称","下限","上限","测试值","通过",null,"测试名称","下限","上限","测试值","通过"]
["通道1-调制系数测试-2238.5MHz",0.6,0.8,0.64,"是",null,"通道2-调制系数测试-2238.5MHz",0.6,0.8,0.645,"是",null,"通道1-最大频偏(KHz)-2238.5MHz",0,0,262.14,"是",null,"通道2-最大频偏(KHz)-2238.5MHz",0,0,264.19,"是",{"$f":"IF(ABS(D2-0.7)>ABS(J2-0.7),D2,J2)","v":0.64},"通道1-fL调制系数测试-2238.5MHz",0,0,0.64,"是",null,"通道2-fL调制系数测试-2238.5MHz",0,0,0.645,"是",null,"通道1-fL(KHz)-2238.5MHz",0,0,262.14,"是",null,"通道2-fL(KHz)-2238.5MHz",0,0,264.19,"是",null,"通道1-fH调制系数测试-2238.5MHz",0,0,0.64,"是",null,"通道2-fH调制系数测试-2238.5MHz",0,0,0.65,"是",null,"通道2-fH(KHz)-2238.5MHz",0,0,266.24,"是"]
["通道1-调制系数测试-2268.5MHz",0.6,0.8,0.665,"是",null,"通道2-调制系数测试-2268.5MHz",0.6,0.8,0.675,"是",null,"通道1-最大频偏(KHz)-2268.5MHz",0,0,272.38,"是",null,"通道2-最大频偏(KHz)-2268.5MHz",0,0,276.48,"是",0.665,"通道1-fL调制系数测试-2268.5MHz",0,0,0.665,"是",null,"通道2-fL调制系数测试-2268.5MHz",0,0,0.675,"是",null,"通道1-fL(KHz)-2268.5MHz",0,0,272.38,"是",null,"通道2-fL(KHz)-2268.5MHz",0,0,276.48,"是",null,"通道1-fH调制系数测试-2268.5MHz",0,0,0.68,"是",null,"通道2-fH调制系数测试-2268.5MHz",0,0,0.69,"是",null,"通道2-fH(KHz)-2268.5MHz",0,0,282.62,"是"]
["通道1-调制系数测试-2226.5MHz",0.6,0.8,0.685,"是",null,"通道2-调制系数测试-2226.5MHz",0.6,0.8,0.665,"是",null,"通道1-最大频偏(KHz)-2226.5MHz",0,0,280.58,"是",null,"通道2-最大频偏(KHz)-2226.5MHz",0,0,272.38,"是",0.665,"通道1-fL调制系数测试-2226.5MHz",0,0,0.69,"是",null,"通道2-fL调制系数测试-2226.5MHz",0,0,0.665,"是",null,"通道1-fL(KHz)-2226.5MHz",0,0,282.62,"是",null,"通道2-fL(KHz)-2226.5MHz",0,0,272.38,"是",null,"通道1-fH调制系数测试-2226.5MHz",0,0,0.685,"是",null,"通道2-fH调制系数测试-2226.5MHz",0,0,0.685,"是",null,"通道2-fH(KHz)-2226.5MHz",0,0,280.58,"是"]
["通道1-调制系数测试-2286.5MHz",0.6,0.8,0.625,"是",null,"通道2-调制系数测试-2286.5MHz",0.6,0.8,0.62,"是",null,"通道1-最大频偏(KHz)-2286.5MHz",0,0,256,"是",null,"通道2-最大频偏(KHz)-2286.5MHz",0,0,253.95,"是",0.62,"通道1-fL调制系数测试-2286.5MHz",0,0,0.625,"是",null,"通道2-fL调制系数测试-2286.5MHz",0,0,0.62,"是",null,"通道1-fL(KHz)-2286.5MHz",0,0,256,"是",null,"通道2-fL(KHz)-2286.5MHz",0,0,253.95,"是",null,"通道1-fH调制系数测试-2286.5MHz",0,0,0.635,"是",null,"通道2-fH调制系数测试-2286.5MHz",0,0,0.625,"是",null,"通道2-fH(KHz)-2286.5MHz",0,0,256,"是"]
["通道1-调制系数测试-2250.5MHz",0.6,0.8,0.61,"是",null,"通道2-调制系数测试-2250.5MHz",0.6,0.8,0.61,"是",null,"通道1-最大频偏(KHz)-2250.5MHz",0,0,249.86,"是",null,"通道2-最大频偏(KHz)-2250.5MHz",0,0,249.86,"是",0.61,"通道1-fL调制系数测试-2250.5MHz",0,0,0.61,"是",null,"通道2-fL调制系数测试-2250.5MHz",0,0,0.61,"是",null,"通道1-fL(KHz)-2250.5MHz",0,0,249.86,"是",null,"通道2-fL(KHz)-2250.5MHz",0,0,249.86,"是",null,"通道1-fH调制系数测试-2250.5MHz",0,0,0.61,"是",null,"通道2-fH调制系数测试-2250.5MHz",0,0,0.625,"是",null,"通道2-fH(KHz)-2250.5MHz",0,0,256,"是"]
["通道1-调制系数测试-2280.5MHz",0.6,0.8,0.65,"是",null,"通道2-调制系数测试-2280.5MHz",0.6,0.8,0.65,"是",null,"通道1-最大频偏(KHz)-2280.5MHz",0,0,266.24,"是",null,"通道2-最大频偏(KHz)-2280.5MHz",0,0,266.24,"是",0.65,"通道1-fL调制系数测试-2280.5MHz",0,0,0.65,"是",null,"通道2-fL调制系数测试-2280.5MHz",0,0,0.65,"是",null,"通道1-fL(KHz)-2280.5MHz",0,0,266.24,"是",null,"通道2-fL(KHz)-2280.5MHz",0,0,266.24,"是",null,"通道1-fH调制系数测试-2280.5MHz",0,0,0.665,"是",null,"通道2-fH调制系数测试-2280.5MHz",0,0,0.665,"是",null,"通道2-fH(KHz)-2280.5MHz",0,0,272.38,"是"]
["通道1-调制系数测试-2214.5MHz",0.6,0.8,0.73,"是",null,"通道2-调制系数测试-2214.5MHz",0.6,0.8,0.745,"是",null,"通道1-最大频偏(KHz)-2214.5MHz",0,0,299.01,"是",null,"通道2-最大频偏(KHz)-2214.5MHz",0,0,305.15,"是",0.745,"通道1-fL调制系数测试-2214.5MHz",0,0,0.73,"是",null,"通道2-fL调制系数测试-2214.5MHz",0,0,0.745,"是",null,"通道1-fL(KHz)-2214.5MHz",0,0,299.01,"是",null,"通道2-fL(KHz)-2214.5MHz",0,0,305.15,"是",null,"通道1-fH调制系数测试-2214.5MHz",0,0,0.75,"是",null,"通道2-fH调制系数测试-2214.5MHz",0,0,0.75,"是",null,"通道2-fH(KHz)-2214.5MHz",0,0,307.2,"是"]
["通道1-调制系数测试-2244.5MHz",0.6,0.8,0.62,"是",null,"通道2-调制系数测试-2244.5MHz",0.6,0.8,0.605,"是",null,"通道1-最大频偏(KHz)-2244.5MHz",0,0,253.95,"是",null,"通道2-最大频偏(KHz)-2244.5MHz",0,0,247.81,"是",0.605,"通道1-fL调制系数测试-2244.5MHz",0,0,0.62,"是",null,"通道2-fL调制系数测试-2244.5MHz",0,0,0.605,"是",null,"通道1-fL(KHz)-2244.5MHz",0,0,253.95,"是",null,"通道2-fL(KHz)-2244.5MHz",0,0,247.81,"是",null,"通道1-fH调制系数测试-2244.5MHz",0,0,0.62,"是",null,"通道2-fH调制系数测试-2244.5MHz",0,0,0.615,"是",null,"通道2-fH(KHz)-2244.5MHz",0,0,251.9,"是"]
["通道1-调制系数测试-2256.5MHz",0.6,0.8,0.6,"是",null,"通道2-调制系数测试-2256.5MHz",0.6,0.8,0.62,"是",null,"通道1-最大频偏(KHz)-2256.5MHz",0,0,245.76,"是",null,"通道2-最大频偏(KHz)-2256.5MHz",0,0,253.95,"是",0.6,"通道1-fL调制系数测试-2256.5MHz",0,0,0.6,"是",null,"通道2-fL调制系数测试-2256.5MHz",0,0,0.62,"是",null,"通道1-fL(KHz)-2256.5MHz",0,0,245.76,"是",null,"通道2-fL(KHz)-2256.5MHz",0,0,253.95,"是",null,"通道1-fH调制系数测试-2256.5MHz",0,0,0.62,"是",null,"通道2-fH调制系数测试-2256.5MHz",0,0,0.62,"是",null,"通道2-fH(KHz)-2256.5MHz",0,0,253.95,"是"]
["通道1-调制系数测试-2262.5MHz",0.6,0.8,0.65,"是",null,"通道2-调制系数测试-2262.5MHz",0.6,0.8,0.65,"是",null,"通道1-最大频偏(KHz)-2262.5MHz",0,0,266.24,"是",null,"通道2-最大频偏(KHz)-2262.5MHz",0,0,266.24,"是",0.65,"通道1-fL调制系数测试-2262.5MHz",0,0,0.65,"是",null,"通道2-fL调制系数测试-2262.5MHz",0,0,0.65,"是",null,"通道1-fL(KHz)-2262.5MHz",0,0,266.24,"是",null,"通道2-fL(KHz)-2262.5MHz",0,0,266.24,"是",null,"通道1-fH调制系数测试-2262.5MHz",0,0,0.65,"是",null,"通道2-fH调制系数测试-2262.5MHz",0,0,0.655,"是",null,"通道2-fH(KHz)-2262.5MHz",0,0,268.29,"是"]
["通道1-调制系数测试-2232.5MHz",0.6,0.8,0.66,"是",null,"通道2-调制系数测试-2232.5MHz",0.6,0.8,0.655,"是",null,"通道1-最大频偏(KHz)-2232.5MHz",0,0,270.34,"是",null,"通道2-最大频偏(KHz)-2232.5MHz",0,0,268.29,"是",0.655,"通道1-fL调制系数测试-2232.5MHz",0,0,0.66,"是",null,"通道2-fL调制系数测试-2232.5MHz",0,0,0.655,"是",null,"通道1-fL(KHz)-2232.5MHz",0,0,270.34,"是",null,"通道2-fL(KHz)-2232.5MHz",0,0,268.29,"是",null,"通道1-fH调制系数测试-2232.5MHz",0,0,0.66,"是",null,"通道2-fH调制系数测试-2232.5MHz",0,0,0.655,"是",null,"通道2-fH(KHz)-2232.5MHz",0,0,268.29,"是"]
["通道1-调制系数测试-2274.5MHz",0.6,0.8,0.68,"是",null,"通道2-调制系数测试-2274.5MHz",0.6,0.8,0.675,"是",null,"通道1-最大频偏(KHz)-2274.5MHz",0,0,278.53,"是",null,"通道2-最大频偏(KHz)-2274.5MHz",0,0,276.48,"是",0.675,"通道1-fL调制系数测试-2274.5MHz",0,0,0.68,"是",null,"通道2-fL调制系数测试-2274.5MHz",0,0,0.675,"是",null,"通道1-fL(KHz)-2274.5MHz",0,0,278.53,"是",null,"通道2-fL(KHz)-2274.5MHz",0,0,276.48,"是",null,"通道1-fH调制系数测试-2274.5MHz",0,0,0.685,"是",null,"通道2-fH调制系数测试-2274.5MHz",0,0,0.68,"是",null,"通道2-fH(KHz)-2274.5MHz",0,0,278.53,"是"]
["通道1-调制系数测试-2220.5MHz",0.6,0.8,0.705,"是",null,"通道2-调制系数测试-2220.5MHz",0.6,0.8,0.705,"是",null,"通道1-最大频偏(KHz)-2220.5MHz",0,0,288.77,"是",null,"通道2-最大频偏(KHz)-2220.5MHz",0,0,288.77,"是",0.705,"通道1-fL调制系数测试-2220.5MHz",0,0,0.705,"是",null,"通道2-fL调制系数测试-2220.5MHz",0,0,0.705,"是",null,"通道1-fL(KHz)-2220.5MHz",0,0,288.77,"是",null,"通道2-fL(KHz)-2220.5MHz",0,0,288.77,"是",null,"通道1-fH调制系数测试-2220.5MHz",0,0,0.705,"是",null,"通道2-fH调制系数测试-2220.5MHz",0,0,0.705,"是",null,"通道2-fH(KHz)-2220.5MHz",0,0,288.77,"是"]
["通道1-调制系数测试-2208.5MHz",0.6,0.8,0.745,"是",null,"通道2-调制系数测试-2208.5MHz",0.6,0.8,0.745,"是",null,"通道1-最大频偏(KHz)-2208.5MHz",0,0,305.15,"是",null,"通道2-最大频偏(KHz)-2208.5MHz",0,0,305.15,"是",0.745,"通道1-fL调制系数测试-2208.5MHz",0,0,0.745,"是",null,"通道2-fL调制系数测试-2208.5MHz",0,0,0.745,"是",null,"通道1-fL(KHz)-2208.5MHz",0,0,305.15,"是",null,"通道2-fL(KHz)-2208.5MHz",0,0,305.15,"是",null,"通道1-fH调制系数测试-2208.5MHz",0,0,0.775,"是",null,"通道2-fH调制系数测试-2208.5MHz",0,0,0.78,"是",null,"通道2-fH(KHz)-2208.5MHz",0,0,319.49,"是"]
["通道1-调制系数测试-2292.5MHz",0.6,0.8,0.58,"否",null,"通道2-调制系数测试-2292.5MHz",0.6,0.8,0.58,"否",null,"通道1-最大频偏(KHz)-2292.5MHz",0,0,237.57,"否",null,"通道2-最大频偏(KHz)-2292.5MHz",0,0,237.57,"否",0.58,"通道1-fL调制系数测试-2292.5MHz",0,0,0.58,"否",null,"通道2-fL调制系数测试-2292.5MHz",0,0,0.58,"否",null,"通道1-fL(KHz)-2292.5MHz",0,0,237.57,"否",null,"通道2-fL(KHz)-2292.5MHz",0,0,237.57,"否",null,"通道1-fH调制系数测试-2292.5MHz",0,0,0.585,"否",null,"通道2-fH调制系数测试-2292.5MHz",0,0,0.58,"否",null,"通道2-fH(KHz)-2292.5MHz",0,0,237.57,"否"]

{"sheet":"功率及频率稳定度","index":5,"n_rows":32,"n_cols":27,"rows_kept":32,"cut":false,"hidden":false,"merged":[]}
["测试名称","下限","上限","测试值","通过",null,"测试名称","下限","上限","测试值","通过",null,"测试名称","下限","上限","测试值","通过",null,"测试名称","下限","上限","测试值","通过","理论中心频率","偏离中心频率最大值","功率总和（W）","功率不平度(dB)"]
["通道1-功率测试(W)-2238.5MHz","/",20,4.37,"是",null,"通道2-功率测试(W)-2238.5MHz","/",20,5.34,"是",null,"通道1-频率测试(MHz)-2238.5MHz",-2238.61,2238.61,2238.507,"是",null,"通道2-频率测试(MHz)-2238.5MHz","/",2238.61,2238.507,"是",{"$f":"'常温测试'!C6","v":2208.5},{"$f":"IF(ABS(P2-X2)>ABS(V2-X2),P2,V2)","v":2238.507},{"$f":"D2+J2","v":9.71},{"$f":"ROUND(ABS(10*LOG10(D2*1000)-10*LOG10(J2*1000)),2)","v":0.87}]
["通道1-功率测试(W)-2268.5MHz","/",20,3.95,"是",null,"通道2-功率测试(W)-2268.5MHz","/",20,4.37,"是",null,"通道1-频率测试(MHz)-2268.5MHz",-2268.61,2268.61,2268.513,"是",null,"通道2-频率测试(MHz)-2268.5MHz","/",2268.61,2268.513,"是",{"$f":"'常温测试'!C7","v":2214.5},{"$f":"IF(ABS(P3-X3)>ABS(V3-X3),P3,V3)","v":2268.513},8.32,0.44]
["通道1-功率测试(W)-2226.5MHz","/",20,4.84,"是",null,"通道2-功率测试(W)-2226.5MHz","/",20,4.91,"是",null,"通道1-频率测试(MHz)-2226.5MHz",-2226.61,2226.61,2226.503,"是",null,"通道2-频率测试(MHz)-2226.5MHz","/",2226.61,2226.503,"是",{"$f":"'常温测试'!C8","v":2220.5},2226.503,9.75,0.06]
["通道1-功率测试(W)-2286.5MHz","/",20,4.95,"是",null,"通道2-功率测试(W)-2286.5MHz","/",20,4.14,"是",null,"通道1-频率测试(MHz)-2286.5MHz",-2286.61,2286.61,2286.516,"是",null,"通道2-频率测试(MHz)-2286.5MHz","/",2286.61,2286.516,"是",{"$f":"'常温测试'!C9","v":2226.5},2286.516,9.09,0.78]
["通道1-功率测试(W)-2250.5MHz","/",20,4.85,"是",null,"通道2-功率测试(W)-2250.5MHz","/",20,4.35,"是",null,"通道1-频率测试(MHz)-2250.5MHz",-2250.61,2250.61,2250.508,"是",null,"通道2-频率测试(MHz)-2250.5MHz","/",2250.61,2250.508,"是",{"$f":"'常温测试'!C10","v":2232.5},2250.508,9.2,0.47]
["通道1-功率测试(W)-2280.5MHz","/",20,4.88,"是",null,"通道2-功率测试(W)-2280.5MHz","/",20,4.29,"是",null,"通道1-频率测试(MHz)-2280.5MHz",-2280.61,2280.61,2280.514,"是",null,"通道2-频率测试(MHz)-2280.5MHz","/",2280.61,2280.514,"是",{"$f":"'常温测试'!C11","v":2238.5},2280.514,9.17,0.56]
["通道1-功率测试(W)-2214.5MHz","/",20,4.12,"是",null,"通道2-功率测试(W)-2214.5MHz","/",20,4.68,"是",null,"通道1-频率测试(MHz)-2214.5MHz",-2214.61,2214.61,2214.499,"是",null,"通道2-频率测试(MHz)-2214.5MHz","/",2214.61,2214.498,"是",{"$f":"'常温测试'!C12","v":2244.5},2214.498,8.8,0.55]
["通道1-功率测试(W)-2244.5MHz","/",20,4.83,"是",null,"通道2-功率测试(W)-2244.5MHz","/",20,4.54,"是",null,"通道1-频率测试(MHz)-2244.5MHz",-2244.61,2244.61,2244.505,"是",null,"通道2-频率测试(MHz)-2244.5MHz","/",2244.61,2244.505,"是",{"$f":"'常温测试'!C13","v":2250.5},2244.505,9.37,0.27]
["通道1-功率测试(W)-2256.5MHz","/",20,4.53,"是",null,"通道2-功率测试(W)-2256.5MHz","/",20,4.09,"是",null,"通道1-频率测试(MHz)-2256.5MHz",-2256.61,2256.61,2256.507,"是",null,"通道2-频率测试(MHz)-2256.5MHz","/",2256.61,2256.507,"是",{"$f":"'常温测试'!C14","v":2256.5},2256.507,8.62,0.44]
["通道1-功率测试(W)-2262.5MHz","/",20,4.74,"是",null,"通道2-功率测试(W)-2262.5MHz","/",20,3.84,"是",null,"通道1-频率测试(MHz)-2262.5MHz",-2262.61,2262.61,2262.508,"是",null,"通道2-频率测试(MHz)-2262.5MHz","/",2262.61,2262.508,"是",{"$f":"'常温测试'!C15","v":2262.5},2262.508,8.58,0.91]
["通道1-功率测试(W)-2232.5MHz","/",20,3.88,"是",null,"通道2-功率测试(W)-2232.5MHz","/",20,3.67,"是",null,"通道1-频率测试(MHz)-2232.5MHz",-2232.61,2232.61,2232.501,"是",null,"通道2-频率测试(MHz)-2232.5MHz","/",2232.61,2232.501,"是",{"$f":"'常温测试'!C16","v":2268.5},2232.501,7.55,0.24]
["通道1-功率测试(W)-2274.5MHz","/",20,3.8,"是",null,"通道2-功率测试(W)-2274.5MHz","/",20,3.79,"是",null,"通道1-频率测试(MHz)-2274.5MHz",-2274.61,2274.61,2274.51,"是",null,"通道2-频率测试(MHz)-2274.5MHz","/",2274.61,2274.51,"是",{"$f":"'常温测试'!C17","v":2274.5},2274.51,7.59,0.01]
["通道1-功率测试(W)-2220.5MHz","/",20,3.52,"是",null,"通道2-功率测试(W)-2220.5MHz","/",20,3.88,"是",null,"通道1-频率测试(MHz)-2220.5MHz",-2220.61,2220.61,2220.497,"是",null,"通道2-频率测试(MHz)-2220.5MHz","/",2220.61,2220.497,"是",{"$f":"'常温测试'!C18","v":2280.5},2220.497,7.4,0.42]
["通道1-功率测试(W)-2208.5MHz","/",20,3.72,"是",null,"通道2-功率测试(W)-2208.5MHz","/",20,3.57,"是",null,"通道1-频率测试(MHz)-2208.5MHz",-2208.61,2208.61,2208.494,"是",null,"通道2-频率测试(MHz)-2208.5MHz","/",2208.61,2208.494,"是",{"$f":"'常温测试'!C19","v":2286.5},2208.494,7.29,0.18]
["通道1-功率测试(W)-2292.5MHz","/",20,3.72,"是",null,"通道2-功率测试(W)-2292.5MHz","/",20,4.01,"是",null,"通道1-频率测试(MHz)-2292.5MHz",-2292.61,2292.61,2292.513,"是",null,"通道2-频率测试(MHz)-2292.5MHz","/",2292.61,2292.513,"是",{"$f":"'常温测试'!C20","v":2292.5},2292.513,7.73,0.33]
[{"$nulls":24},{"$f":"IF(ABS(P17-X17)>ABS(V17-X17),P17,V17)","v":0},0,{"$error":"#NUM!"}]
[{"$nulls":24},0,0,{"$error":"#NUM!"}]
[{"$nulls":24},0,0,{"$error":"#NUM!"}]
[{"$nulls":24},0,0,{"$error":"#NUM!"}]
[{"$nulls":24},0,0,{"$error":"#NUM!"}]
[{"$nulls":24},0,0,{"$error":"#NUM!"}]
[{"$nulls":24},0,0,{"$error":"#NUM!"}]
[{"$nulls":24},0,0,{"$error":"#NUM!"}]
[{"$nulls":24},0,0,{"$error":"#NUM!"}]
[{"$nulls":24},0,0,{"$error":"#NUM!"}]
[{"$nulls":24},0,0,{"$error":"#NUM!"}]
[{"$nulls":24},0,0,{"$error":"#NUM!"}]
[{"$nulls":24},0,0,{"$error":"#NUM!"}]
[{"$nulls":25},0,{"$error":"#NUM!"}]
[{"$nulls":25},0,{"$error":"#NUM!"}]
[{"$nulls":25},0,{"$error":"#NUM!"}]

{"sheet":"测试信息","index":6,"n_rows":2,"n_cols":5,"rows_kept":2,"cut":false,"hidden":false,"merged":[]}
["序列号","检验员","测试日期","温度","湿度"]
[211006,"王杰","2021-08-21","26℃","60%RH"]