{"text_format":"2","workbook":"xlsx","n_sheets":13,"sheets":["常温测试","电压及电流","谐波抑制","杂波抑制","调制系数","功率及频率稳定度","FSK调制系数","噪声功率谱密度","相位噪声","功率(功率计)","测试信息","Sheet1","Sheet2"],"not_rendered":{"charts":0,"images":0,"macros":0,"external_links":0,"defined_names":0,"comments":0,"pivot_tables":0},"unopened":[],"bounds":{"document_bytes":16777216,"sheet_cells":100000,"run_cost":"one","rows_first":2000,"rows_last":500,"rows_between":2000,"halvings":0,"cell_chars":16384,"cell_head_chars":4096},"cells_cut":0,"cells_raw":0,"read":"whole","date_system":"1900"}

{"sheet":"常温测试","index":0,"n_rows":21,"n_cols":14,"rows_kept":21,"cut":false,"hidden":false,"merged":[[0,0,0,13],[1,1,1,13],[2,1,2,13],[3,9,3,10],[3,11,3,12],[18,1,18,13],[19,1,19,13],[3,0,4,0],[5,0,17,0],[3,1,4,1],[3,2,4,2],[3,3,4,3],[3,4,4,4],[3,5,4,5],[3,6,4,6],[3,7,4,7],[3,8,4,8],[3,13,4,13]]}
["YZH1-6A 遥测采发组合环境应力筛选试验记录（发射机）     "]
["测试项目","常温性能测试（发射机）"]
["技术要求","供电电压：28V；                                                                                                                                                                                                                   消耗电流：记录；中心频率：（f0±0.110）MHz；                                                                                                                                                                      调制度：0.7±0.1；输出功率：每个通道≥4W （36dBm）；                                                                                                                                                                  杂波抑制：≥50dB，其中：1.238GHz～1.298GHz抑制不小于110dB；谐波抑制：≥50dB；                                                                                        备注：产品完成A组试验后，配置频点为频点50，作为产品初始频点。"]
["产品编号","频率代\n码PL","设定频率\n（MHz）","供电电压\n（V）","消耗电流\n（A）","中心频率\n(MHz)","fH\n(MHz)","fL\n(MHz)","调制指数","输出功率(dBm)",null,"杂波抑制（dB）",null,"谐波抑制\n(dB)"]
[{"$nulls":9},"XC13","XC14","带内","特殊频段"]
[{"$f":"测试信息!A2","v":"21PBF06001M"},"01H",2201.5,28,{"$f":"电压及电流!AA2","v":1.1},2201.5,{"$f":"调制系数!P2","v":270.34},null,{"$f":"调制系数!X2","v":0.66},{"$f":"功率及频率稳定度!D2","v":6.89},{"$f":"功率及频率稳定度!F2","v":38.3821922190763},{"$f":"杂波抑制!L2","v":78.55},null,{"$f":"谐波抑制!L2","v":63.18}]
[null,"06H",2206.5,28,{"$f":"电压及电流!AA3","v":1.1},2206.5,{"$f":"调制系数!P3","v":274.43},null,{"$f":"调制系数!X3","v":0.67},{"$f":"功率及频率稳定度!D3","v":6.7},{"$f":"功率及频率稳定度!F3","v":38.2607480270083}]
[null,"16H",2216.5,28,{"$f":"电压及电流!AA4","v":1.1},2216.5,{"$f":"调制系数!P4","v":294.91},null,{"$f":"调制系数!X4","v":0.72},{"$f":"功率及频率稳定度!D4","v":6.91},{"$f":"功率及频率稳定度!F4","v":38.394780473742}]
[null,"26H",2226.5,28,{"$f":"电压及电流!AA5","v":1.09},2226.5,{"$f":"调制系数!P5","v":282.62},null,{"$f":"调制系数!X5","v":0.69},{"$f":"功率及频率稳定度!D5","v":6.52},{"$f":"功率及频率稳定度!F5","v":38.1424759573192}]
[null,"36H",2236.5,28,{"$f":"电压及电流!AA6","v":1.1},{"$f":"功率及频率稳定度!P6","v":2250.507},{"$f":"调制系数!P6","v":249.86},null,{"$f":"调制系数!X6","v":0.61},{"$f":"功率及频率稳定度!D6","v":6.75},{"$f":"功率及频率稳定度!F6","v":38.2930377283102}]
[null,"46H",2246.5,28,{"$f":"电压及电流!AA7","v":1.1},{"$f":"功率及频率稳定度!P7","v":2280.513},{"$f":"调制系数!P7","v":286.72},null,{"$f":"调制系数!X7","v":0.7},{"$f":"功率及频率稳定度!D7","v":6.62},{"$f":"功率及频率稳定度!F7","v":38.208579894397}]
[null,"50H",2250.5,28,{"$f":"电压及电流!AA8","v":1.09},{"$f":"功率及频率稳定度!P8","v":2214.498},{"$f":"调制系数!P8","v":317.44},null,{"$f":"调制系数!X8","v":0.775},{"$f":"功率及频率稳定度!D8","v":6.81},{"$f":"功率及频率稳定度!F8","v":38.3314711191279}]
[null,"56H",2256.5,28,{"$f":"电压及电流!AA9","v":1.09},{"$f":"功率及频率稳定度!P9","v":2244.505},{"$f":"调制系数!P9","v":262.14},null,{"$f":"调制系数!X9","v":0.64},{"$f":"功率及频率稳定度!D9","v":6.96},{"$f":"功率及频率稳定度!F9","v":38.4260923961056}]
[null,"66H",2266.5,28,{"$f":"电压及电流!AA10","v":1.1},{"$f":"功率及频率稳定度!P10","v":2256.507},{"$f":"调制系数!P10","v":253.95},null,{"$f":"调制系数!X10","v":0.62},{"$f":"功率及频率稳定度!D10","v":6.73},{"$f":"功率及频率稳定度!F10","v":38.2801506422398}]
[null,"76H",2276.5,28,{"$f":"电压及电流!AA11","v":1.1},{"$f":"功率及频率稳定度!P11","v":2262.508},{"$f":"调制系数!P11","v":253.95},null,{"$f":"调制系数!X11","v":0.62},{"$f":"功率及频率稳定度!D11","v":6.66},{"$f":"功率及频率稳定度!F11","v":38.234742291703}]
[null,"86H",2286.5,28,{"$f":"电压及电流!AA12","v":1.09},{"$f":"功率及频率稳定度!P12","v":2232.501},{"$f":"调制系数!P12","v":278.53},null,{"$f":"调制系数!X12","v":0.68},{"$f":"功率及频率稳定度!D12","v":6.69},{"$f":"功率及频率稳定度!F12","v":38.2542611776782}]
[null,"96H",2296.5,28,{"$f":"电压及电流!AA13","v":1.09},{"$f":"功率及频率稳定度!P13","v":2274.51},{"$f":"调制系数!P13","v":290.82},null,{"$f":"调制系数!X13","v":0.71},{"$f":"功率及频率稳定度!D13","v":6.65},{"$f":"功率及频率稳定度!F13","v":38.228216453031}]
[null,"99H",2299.5,28,{"$f":"电压及电流!AA14","v":1.09},{"$f":"功率及频率稳定度!P14","v":2220.497},{"$f":"调制系数!P14","v":311.3},null,{"$f":"调制系数!X14","v":0.76},{"$f":"功率及频率稳定度!D14","v":6.87},{"$f":"功率及频率稳定度!F14","v":38.3695673705955}]
["备注"]
["结论","本页检验     1  台合格，  0  台不合格。"]
["检验员： ",null,"测试日期：",null,"温度：",{"$f":"测试信息!D2","v":"22.9℃"},"湿度：",{"$f":"测试信息!E2","v":"60.4%"}]

{"sheet":"电压及电流","index":1,"n_rows":79,"n_cols":27,"rows_kept":79,"cut":false,"hidden":false,"merged":[]}
["测试名称","下限","上限","测试值","通过",null,"测试名称","下限","上限","测试值","通过",null,"测试名称","下限","上限","测试值","通过",null,"测试名称","下限","上限","测试值","通过",null,null,"两通道电压最大值","两通道电流最大值"]
["通道1-电压测试-2238.5MHz",24,31,27,"是",{"$nulls":7},"通道1-电流测试-2238.5MHz",0.1,1.5,1.1,"是",{"$nulls":8},{"$f":"MAX(D2,J2)","v":27},{"$f":"MAX(P2,V2)","v":1.1}]
["通道1-电压测试-2268.5MHz",24,31,27,"是",{"$nulls":7},"通道1-电流测试-2268.5MHz",0.1,1.5,1.1,"是",{"$nulls":8},27,{"$f":"MAX(P3,V3)","v":1.1}]
["通道1-电压测试-2226.5MHz",24,31,27,"是",{"$nulls":7},"通道1-电流测试-2226.5MHz",0.1,1.5,1.1,"是",{"$nulls":8},27,1.1]
["通道1-电压测试-2286.5MHz",24,31,27,"是",{"$nulls":7},"通道1-电流测试-2286.5MHz",0.1,1.5,1.09,"是",{"$nulls":8},27,1.09]
["通道1-电压测试-2250.5MHz",24,31,27,"是",{"$nulls":7},"通道1-电流测试-2250.5MHz",0.1,1.5,1.1,"是",{"$nulls":8},27,1.1]
["通道1-电压测试-2280.5MHz",24,31,27,"是",{"$nulls":7},"通道1-电流测试-2280.5MHz",0.1,1.5,1.1,"是",{"$nulls":8},27,1.1]
["通道1-电压测试-2214.5MHz",24,31,27,"是",{"$nulls":7},"通道1-电流测试-2214.5MHz",0.1,1.5,1.09,"是",{"$nulls":8},27,1.09]
["通道1-电压测试-2244.5MHz",24,31,27,"是",{"$nulls":7},"通道1-电流测试-2244.5MHz",0.1,1.5,1.09,"是",{"$nulls":8},27,1.09]
["通道1-电压测试-2256.5MHz",24,31,27,"是",{"$nulls":7},"通道1-电流测试-2256.5MHz",0.1,1.5,1.1,"是",{"$nulls":8},27,1.1]
["通道1-电压测试-2262.5MHz",24,31,27,"是",{"$nulls":7},"通道1-电流测试-2262.5MHz",0.1,1.5,1.1,"是",{"$nulls":8},27,1.1]
["通道1-电压测试-2232.5MHz",24,31,27,"是",{"$nulls":7},"通道1-电流测试-2232.5MHz",0.1,1.5,1.09,"是",{"$nulls":8},27,1.09]
["通道1-电压测试-2274.5MHz",24,31,27,"是",{"$nulls":7},"通道1-电流测试-2274.5MHz",0.1,1.5,1.09,"是",{"$nulls":8},27,1.09]
["通道1-电压测试-2220.5MHz",24,31,27,"是",{"$nulls":7},"通道1-电流测试-2220.5MHz",0.1,1.5,1.09,"是",{"$nulls":8},27,1.09]
["通道1-电压测试-2208.5MHz",24,31,27,"是",{"$nulls":7},"通道1-电流测试-2208.5MHz",0.1,1.5,1.09,"是",{"$nulls":8},27,1.09]
["通道1-电压测试-2292.5MHz",24,31,27,"是",{"$nulls":7},"通道1-电流测试-2292.5MHz",0.1,1.5,1.08,"是",{"$nulls":8},27,1.08]
[{"$nulls":25},0,0]
[{"$nulls":25},0,0]
[{"$nulls":25},0,0]
[{"$nulls":25},0,0]
[{"$nulls":25},0,0]
[{"$nulls":25},0,0]
[{"$nulls":25},0,0]
[{"$nulls":25},0,0]
[{"$nulls":25},0,0]
[{"$nulls":25},0,0]
[{"$nulls":25},0,0]
[{"$nulls":25},0,0]
[{"$nulls":25},0,0]
[{"$nulls":25},0,0]
[{"$nulls":25},0,0]
[{"$nulls":25},0,0]
[{"$nulls":25},0,0]
[{"$nulls":25},{"$f":"MAX(D34,J34)","v":0},0]
[{"$nulls":25},0,0]
[{"$nulls":25},0,0]
[{"$nulls":25},0,0]
[{"$nulls":25},0,0]
[{"$nulls":25},0,0]
[{"$nulls":25},0,0]
[{"$nulls":25},0,0]
[{"$nulls":25},0,0]
[{"$nulls":25},0,0]
[{"$nulls":25},0,0]
[{"$nulls":25},0,0]
[{"$nulls":25},0,0]
[{"$nulls":25},0,0]
[{"$nulls":25},0,0]
[{"$nulls":25},0,0]
[{"$nulls":25},0,0]
[{"$nulls":25},0,0]
[{"$nulls":25},0,0]
[{"$nulls":25},0,0]
[{"$nulls":25},0,0]
[{"$nulls":25},0,0]
[{"$nulls":25},0,0]
[{"$nulls":25},0,0]
[{"$nulls":25},0,0]
[{"$nulls":25},0,0]
[{"$nulls":25},0,0]
[{"$nulls":25},0,0]
[{"$nulls":25},0,0]
[{"$nulls":25},0,0]
[{"$nulls":25},0,0]
[{"$nulls":25},0,0]
[{"$nulls":25},{"$f":"MAX(D66,J66)","v":0},0]
[{"$nulls":25},0,{"$f":"MAX(P67,V67)","v":0}]
[{"$nulls":25},0,0]
[{"$nulls":25},0,0]
[{"$nulls":25},0,0]
[{"$nulls":25},0,0]
[{"$nulls":25},0,0]
[{"$nulls":25},0,0]
[{"$nulls":25},0,0]
[{"$nulls":25},0,0]
[{"$nulls":25},0,0]
[{"$nulls":25},0,0]
[{"$nulls":25},0,0]
[{"$nulls":25},0,0]

{"sheet":"谐波抑制","index":2,"n_rows":16,"n_cols":29,"rows_kept":16,"cut":false,"hidden":false,"merged":[]}
["测试名称","下限","上限","测试值","通过",null,"测试名称","下限","上限","测试值","通过","21PBF06001M"]
["通道1-谐波抑制测试-2238.5MHz",50,120,67.16,"是",{"$nulls":6},{"$f":"MIN(D2:D16,J2:J16)","v":63.18},"通道1-2次-谐波抑制测试-2238.5MHz",50,120,0,"是",{"$nulls":7},"通道1-3次-谐波抑制测试-2238.5MHz",50,120,0,"是"]
["通道1-谐波抑制测试-2268.5MHz",50,120,68.11,"是",{"$nulls":7},"通道1-2次-谐波抑制测试-2268.5MHz",50,120,0,"是",{"$nulls":7},"通道1-3次-谐波抑制测试-2268.5MHz",50,120,0,"是"]
["通道1-谐波抑制测试-2226.5MHz",50,120,67.12,"是",{"$nulls":7},"通道1-2次-谐波抑制测试-2226.5MHz",50,120,0,"是",{"$nulls":7},"通道1-3次-谐波抑制测试-2226.5MHz",50,120,0,"是"]
["通道1-谐波抑制测试-2286.5MHz",50,120,66.61,"是",{"$nulls":7},"通道1-2次-谐波抑制测试-2286.5MHz",50,120,0,"是",{"$nulls":7},"通道1-3次-谐波抑制测试-2286.5MHz",50,120,0,"是"]
["通道1-谐波抑制测试-2250.5MHz",50,120,66.6,"是",{"$nulls":7},"通道1-2次-谐波抑制测试-2250.5MHz",50,120,0,"是",{"$nulls":7},"通道1-3次-谐波抑制测试-2250.5MHz",50,120,0,"是"]
["通道1-谐波抑制测试-2280.5MHz",50,120,67.78,"是",{"$nulls":7},"通道1-2次-谐波抑制测试-2280.5MHz",50,120,0,"是",{"$nulls":7},"通道1-3次-谐波抑制测试-2280.5MHz",50,120,0,"是"]
["通道1-谐波抑制测试-2214.5MHz",50,120,65.8,"是",{"$nulls":7},"通道1-2次-谐波抑制测试-2214.5MHz",50,120,0,"是",{"$nulls":7},"通道1-3次-谐波抑制测试-2214.5MHz",50,120,0,"是"]
["通道1-谐波抑制测试-2244.5MHz",50,120,65.97,"是",{"$nulls":7},"通道1-2次-谐波抑制测试-2244.5MHz",50,120,0,"是",{"$nulls":7},"通道1-3次-谐波抑制测试-2244.5MHz",50,120,0,"是"]
["通道1-谐波抑制测试-2256.5MHz",50,120,66.76,"是",{"$nulls":7},"通道1-2次-谐波抑制测试-2256.5MHz",50,120,0,"是",{"$nulls":7},"通道1-3次-谐波抑制测试-2256.5MHz",50,120,0,"是"]
["通道1-谐波抑制测试-2262.5MHz",50,120,67.05,"是",{"$nulls":7},"通道1-2次-谐波抑制测试-2262.5MHz",50,120,0,"是",{"$nulls":7},"通道1-3次-谐波抑制测试-2262.5MHz",50,120,0,"是"]
["通道1-谐波抑制测试-2232.5MHz",50,120,66.45,"是",{"$nulls":7},"通道1-2次-谐波抑制测试-2232.5MHz",50,120,0,"是",{"$nulls":7},"通道1-3次-谐波抑制测试-2232.5MHz",50,120,0,"是"]
["通道1-谐波抑制测试-2274.5MHz",50,120,67.92,"是",{"$nulls":7},"通道1-2次-谐波抑制测试-2274.5MHz",50,120,0,"是",{"$nulls":7},"通道1-3次-谐波抑制测试-2274.5MHz",50,120,0,"是"]
["通道1-谐波抑制测试-2220.5MHz",50,120,66.24,"是",{"$nulls":7},"通道1-2次-谐波抑制测试-2220.5MHz",50,120,0,"是",{"$nulls":7},"通道1-3次-谐波抑制测试-2220.5MHz",50,120,0,"是"]
["通道1-谐波抑制测试-2208.5MHz",50,120,65.66,"是",{"$nulls":7},"通道1-2次-谐波抑制测试-2208.5MHz",50,120,0,"是",{"$nulls":7},"通道1-3次-谐波抑制测试-2208.5MHz",50,120,0,"是"]
["通道1-谐波抑制测试-2292.5MHz",50,120,63.18,"是",{"$nulls":7},"通道1-2次-谐波抑制测试-2292.5MHz",50,120,0,"是",{"$nulls":7},"通道1-3次-谐波抑制测试-2292.5MHz",50,120,0,"是"]

{"sheet":"杂波抑制","index":3,"n_rows":16,"n_cols":12,"rows_kept":16,"cut":false,"hidden":false,"merged":[]}
["测试名称","下限","上限","测试值","通过",null,"测试名称","下限","上限","测试值","通过","2个通道15个频点最小值"]
["通道1-杂波抑制测试-2238.5MHz",50,120,78.65,"是",{"$nulls":6},{"$f":"MIN(D2:D16,J2:J16)","v":78.55}]
["通道1-杂波抑制测试-2268.5MHz",50,120,78.8,"是"]
["通道1-杂波抑制测试-2226.5MHz",50,120,79.02,"是"]
["通道1-杂波抑制测试-2286.5MHz",50,120,78.76,"是"]
["通道1-杂波抑制测试-2250.5MHz",50,120,79.16,"是"]
["通道1-杂波抑制测试-2280.5MHz",50,120,78.81,"是"]
["通道1-杂波抑制测试-2214.5MHz",50,120,79.29,"是"]
["通道1-杂波抑制测试-2244.5MHz",50,120,79.09,"是"]
["通道1-杂波抑制测试-2256.5MHz",50,120,79.17,"是"]
["通道1-杂波抑制测试-2262.5MHz",50,120,79.38,"是"]
["通道1-杂波抑制测试-2232.5MHz",50,120,79.12,"是"]
["通道1-杂波抑制测试-2274.5MHz",50,120,78.55,"是"]
["通道1-杂波抑制测试-2220.5MHz",50,120,78.86,"是"]
["通道1-杂波抑制测试-2208.5MHz",50,120,79.29,"是"]
["通道1-杂波抑制测试-2292.5MHz",50,120,78.76,"是"]

{"sheet":"调制系数","index":4,"n_rows":16,"n_cols":71,"rows_kept":16,"cut":false,"hidden":false,"merged":[]}
["测试名称","下限","上限","测试值","通过",null,"测试名称","下限","上限","测试值","通过",null,"测试名称","下限","上限","测试值","通过",null,"测试名称","下限","上限","测试值","通过","返回偏离0.7最大的值","测试名称","下限","上限","测试值","通过",null,"测试名称","下限","上限","测试值","通过",null,"测试名称","下限","上限","测试值","通过",null,"测试名称","下限","上限","测试值","通过",null,"测试名称","下限","上限","测试值","通过",null,"测试名称","下限","上限","测试值","通过",null,"测试名称","下限","上限","测试值","通过",null,"测试名称","下限","上限","测试值","通过"]
["通道1-调制系数测试-2238.5MHz",0.6,0.8,0.66,"是",{"$nulls":7},"通道1-最大频偏(KHz)-2238.5MHz","/","/",270.34,"是",{"$nulls":6},{"$f":"D2","v":0.66},"通道1-fL调制系数测试-2238.5MHz",0,0,0.665,"是",{"$nulls":7},"通道1-fL(KHz)-2238.5MHz","/","/",272.38,"是",{"$nulls":7},"通道1-fH调制系数测试-2238.5MHz",0,0,0.66,"是",{"$nulls":7},"通道1-fH(KHz)-2238.5MHz","/","/",270.34,"是"]
["通道1-调制系数测试-2268.5MHz",0.6,0.8,0.67,"是",{"$nulls":7},"通道1-最大频偏(KHz)-2268.5MHz","/","/",274.43,"是",{"$nulls":6},{"$f":"D3","v":0.67},"通道1-fL调制系数测试-2268.5MHz",0,0,0.67,"是",{"$nulls":7},"通道1-fL(KHz)-2268.5MHz","/","/",274.43,"是",{"$nulls":7},"通道1-fH调制系数测试-2268.5MHz",0,0,0.67,"是",{"$nulls":7},"通道1-fH(KHz)-2268.5MHz","/","/",274.43,"是"]
["通道1-调制系数测试-2226.5MHz",0.6,0.8,0.72,"是",{"$nulls":7},"通道1-最大频偏(KHz)-2226.5MHz","/","/",294.91,"是",{"$nulls":6},0.72,"通道1-fL调制系数测试-2226.5MHz",0,0,0.73,"是",{"$nulls":7},"通道1-fL(KHz)-2226.5MHz","/","/",299.01,"是",{"$nulls":7},"通道1-fH调制系数测试-2226.5MHz",0,0,0.72,"是",{"$nulls":7},"通道1-fH(KHz)-2226.5MHz","/","/",294.91,"是"]
["通道1-调制系数测试-2286.5MHz",0.6,0.8,0.69,"是",{"$nulls":7},"通道1-最大频偏(KHz)-2286.5MHz","/","/",282.62,"是",{"$nulls":6},0.69,"通道1-fL调制系数测试-2286.5MHz",0,0,0.7,"是",{"$nulls":7},"通道1-fL(KHz)-2286.5MHz","/","/",286.72,"是",{"$nulls":7},"通道1-fH调制系数测试-2286.5MHz",0,0,0.69,"是",{"$nulls":7},"通道1-fH(KHz)-2286.5MHz","/","/",282.62,"是"]
["通道1-调制系数测试-2250.5MHz",0.6,0.8,0.61,"是",{"$nulls":7},"通道1-最大频偏(KHz)-2250.5MHz","/","/",249.86,"是",{"$nulls":6},0.61,"通道1-fL调制系数测试-2250.5MHz",0,0,0.61,"是",{"$nulls":7},"通道1-fL(KHz)-2250.5MHz","/","/",249.86,"是",{"$nulls":7},"通道1-fH调制系数测试-2250.5MHz",0,0,0.625,"是",{"$nulls":7},"通道1-fH(KHz)-2250.5MHz","/","/",256,"是"]
["通道1-调制系数测试-2280.5MHz",0.6,0.8,0.7,"是",{"$nulls":7},"通道1-最大频偏(KHz)-2280.5MHz","/","/",286.72,"是",{"$nulls":6},0.7,"通道1-fL调制系数测试-2280.5MHz",0,0,0.7,"是",{"$nulls":7},"通道1-fL(KHz)-2280.5MHz","/","/",286.72,"是",{"$nulls":7},"通道1-fH调制系数测试-2280.5MHz",0,0,0.71,"是",{"$nulls":7},"通道1-fH(KHz)-2280.5MHz","/","/",290.82,"是"]
["通道1-调制系数测试-2214.5MHz",0.6,0.8,0.775,"是",{"$nulls":7},"通道1-最大频偏(KHz)-2214.5MHz","/","/",317.44,"是",{"$nulls":6},0.775,"通道1-fL调制系数测试-2214.5MHz",0,0,0.775,"是",{"$nulls":7},"通道1-fL(KHz)-2214.5MHz","/","/",317.44,"是",{"$nulls":7},"通道1-fH调制系数测试-2214.5MHz",0,0,0.775,"是",{"$nulls":7},"通道1-fH(KHz)-2214.5MHz","/","/",317.44,"是"]
["通道1-调制系数测试-2244.5MHz",0.6,0.8,0.64,"是",{"$nulls":7},"通道1-最大频偏(KHz)-2244.5MHz","/","/",262.14,"是",{"$nulls":6},0.64,"通道1-fL调制系数测试-2244.5MHz",0,0,0.64,"是",{"$nulls":7},"通道1-fL(KHz)-2244.5MHz","/","/",262.14,"是",{"$nulls":7},"通道1-fH调制系数测试-2244.5MHz",0,0,0.64,"是",{"$nulls":7},"通道1-fH(KHz)-2244.5MHz","/","/",262.14,"是"]
["通道1-调制系数测试-2256.5MHz",0.6,0.8,0.62,"是",{"$nulls":7},"通道1-最大频偏(KHz)-2256.5MHz","/","/",253.95,"是",{"$nulls":6},0.62,"通道1-fL调制系数测试-2256.5MHz",0,0,0.625,"是",{"$nulls":7},"通道1-fL(KHz)-2256.5MHz","/","/",256,"是",{"$nulls":7},"通道1-fH调制系数测试-2256.5MHz",0,0,0.62,"是",{"$nulls":7},"通道1-fH(KHz)-2256.5MHz","/","/",253.95,"是"]
["通道1-调制系数测试-2262.5MHz",0.6,0.8,0.62,"是",{"$nulls":7},"通道1-最大频偏(KHz)-2262.5MHz","/","/",253.95,"是",{"$nulls":6},0.62,"通道1-fL调制系数测试-2262.5MHz",0,0,0.62,"是",{"$nulls":7},"通道1-fL(KHz)-2262.5MHz","/","/",253.95,"是",{"$nulls":7},"通道1-fH调制系数测试-2262.5MHz",0,0,0.65,"是",{"$nulls":7},"通道1-fH(KHz)-2262.5MHz","/","/",266.24,"是"]
["通道1-调制系数测试-2232.5MHz",0.6,0.8,0.68,"是",{"$nulls":7},"通道1-最大频偏(KHz)-2232.5MHz","/","/",278.53,"是",{"$nulls":6},0.68,"通道1-fL调制系数测试-2232.5MHz",0,0,0.68,"是",{"$nulls":7},"通道1-fL(KHz)-2232.5MHz","/","/",278.53,"是",{"$nulls":7},"通道1-fH调制系数测试-2232.5MHz",0,0,0.695,"是",{"$nulls":7},"通道1-fH(KHz)-2232.5MHz","/","/",284.67,"是"]
["通道1-调制系数测试-2274.5MHz",0.6,0.8,0.71,"是",{"$nulls":7},"通道1-最大频偏(KHz)-2274.5MHz","/","/",290.82,"是",{"$nulls":6},0.71,"通道1-fL调制系数测试-2274.5MHz",0,0,0.715,"是",{"$nulls":7},"通道1-fL(KHz)-2274.5MHz","/","/",292.86,"是",{"$nulls":7},"通道1-fH调制系数测试-2274.5MHz",0,0,0.71,"是",{"$nulls":7},"通道1-fH(KHz)-2274.5MHz","/","/",290.82,"是"]
["通道1-调制系数测试-2220.5MHz",0.6,0.8,0.76,"是",{"$nulls":7},"通道1-最大频偏(KHz)-2220.5MHz","/","/",311.3,"是",{"$nulls":6},0.76,"通道1-fL调制系数测试-2220.5MHz",0,0,0.76,"是",{"$nulls":7},"通道1-fL(KHz)-2220.5MHz","/","/",311.3,"是",{"$nulls":7},"通道1-fH调制系数测试-2220.5MHz",0,0,0.765,"是",{"$nulls":7},"通道1-fH(KHz)-2220.5MHz","/","/",313.34,"是"]
["通道1-调制系数测试-2208.5MHz",0.6,0.8,0.77,"是",{"$nulls":7},"通道1-最大频偏(KHz)-2208.5MHz","/","/",315.39,"是",{"$nulls":6},0.77,"通道1-fL调制系数测试-2208.5MHz",0,0,0.77,"是",{"$nulls":7},"通道1-fL(KHz)-2208.5MHz","/","/",315.39,"是",{"$nulls":7},"通道1-fH调制系数测试-2208.5MHz",0,0,0.77,"是",{"$nulls":7},"通道1-fH(KHz)-2208.5MHz","/","/",315.39,"是"]
["通道1-调制系数测试-2292.5MHz",0.6,0.8,0.655,"是",{"$nulls":7},"通道1-最大频偏(KHz)-2292.5MHz","/","/",268.29,"是",{"$nulls":6},0.655,"通道1-fL调制系数测试-2292.5MHz",0,0,0.665,"是",{"$nulls":7},"通道1-fL(KHz)-2292.5MHz","/","/",272.38,"是",{"$nulls":7},"通道1-fH调制系数测试-2292.5MHz",0,0,0.655,"是",{"$nulls":7},"通道1-fH(KHz)-2292.5MHz","/","/",268.29,"是"]

{"sheet":"功率及频率稳定度","index":5,"n_rows":32,"n_cols":27,"rows_kept":32,"cut":false,"hidden":false,"merged":[]}
["测试名称","下限","上限","测试值","通过",null,"测试名称","下限","上限","测试值","通过",null,"测试名称","下限","上限","测试值","通过",null,"测试名称","下限","上限","测试值","通过","理论中心频率","偏离中心频率最大值","功率总和（W）","功率不平度(dB)"]
["通道1-功率测试(W)-2238.5MHz",3,999,6.89,"是",{"$f":"10*LOG(D2*1000)","v":38.3821922190763},{"$nulls":6},"通道1-频率测试(MHz)-2238.5MHz",2238.39,2238.61,2238.506,"是",{"$nulls":6},{"$f":"常温测试!C6","v":2201.5},{"$f":"IF(ABS(P2-X2)>ABS(V2-X2),P2,V2)","v":0},{"$f":"D2+J2","v":6.89},{"$f":"ROUND(ABS(10*LOG10(D2*1000)-10*LOG10(J2*1000)),2)","v":{"$error":"#NUM!"}}]
["通道1-功率测试(W)-2268.5MHz",3,999,6.7,"是",{"$f":"10*LOG(D3*1000)","v":38.2607480270083},{"$nulls":6},"通道1-频率测试(MHz)-2268.5MHz",2268.39,2268.61,2268.512,"是",{"$nulls":6},{"$f":"常温测试!C7","v":2206.5},{"$f":"IF(ABS(P3-X3)>ABS(V3-X3),P3,V3)","v":0},6.7,{"$error":"#NUM!"}]
["通道1-功率测试(W)-2226.5MHz",3,999,6.91,"是",38.394780473742,{"$nulls":6},"通道1-频率测试(MHz)-2226.5MHz",2226.39,2226.61,2226.502,"是",{"$nulls":6},{"$f":"常温测试!C8","v":2216.5},0,6.91,{"$error":"#NUM!"}]
["通道1-功率测试(W)-2286.5MHz",3,999,6.52,"是",38.1424759573192,{"$nulls":6},"通道1-频率测试(MHz)-2286.5MHz",2286.39,2286.61,2286.516,"是",{"$nulls":6},{"$f":"常温测试!C9","v":2226.5},0,6.52,{"$error":"#NUM!"}]
["通道1-功率测试(W)-2250.5MHz",3,999,6.75,"是",38.2930377283102,{"$nulls":6},"通道1-频率测试(MHz)-2250.5MHz",2250.39,2250.61,2250.507,"是",{"$nulls":6},{"$f":"常温测试!C10","v":2236.5},0,6.75,{"$error":"#NUM!"}]
["通道1-功率测试(W)-2280.5MHz",3,999,6.62,"是",38.208579894397,{"$nulls":6},"通道1-频率测试(MHz)-2280.5MHz",2280.39,2280.61,2280.513,"是",{"$nulls":6},{"$f":"常温测试!C11","v":2246.5},0,6.62,{"$error":"#NUM!"}]
["通道1-功率测试(W)-2214.5MHz",3,999,6.81,"是",38.3314711191279,{"$nulls":6},"通道1-频率测试(MHz)-2214.5MHz",2214.39,2214.61,2214.498,"是",{"$nulls":6},{"$f":"常温测试!C12","v":2250.5},0,6.81,{"$error":"#NUM!"}]
["通道1-功率测试(W)-2244.5MHz",3,999,6.96,"是",38.4260923961056,{"$nulls":6},"通道1-频率测试(MHz)-2244.5MHz",2244.39,2244.61,2244.505,"是",{"$nulls":6},{"$f":"常温测试!C13","v":2256.5},0,6.96,{"$error":"#NUM!"}]
["通道1-功率测试(W)-2256.5MHz",3,999,6.73,"是",38.2801506422398,{"$nulls":6},"通道1-频率测试(MHz)-2256.5MHz",2256.39,2256.61,2256.507,"是",{"$nulls":6},{"$f":"常温测试!C14","v":2266.5},0,6.73,{"$error":"#NUM!"}]
["通道1-功率测试(W)-2262.5MHz",3,999,6.66,"是",38.234742291703,{"$nulls":6},"通道1-频率测试(MHz)-2262.5MHz",2262.39,2262.61,2262.508,"是",{"$nulls":6},{"$f":"常温测试!C15","v":2276.5},0,6.66,{"$error":"#NUM!"}]
["通道1-功率测试(W)-2232.5MHz",3,999,6.69,"是",38.2542611776782,{"$nulls":6},"通道1-频率测试(MHz)-2232.5MHz",2232.39,2232.61,2232.501,"是",{"$nulls":6},{"$f":"常温测试!C16","v":2286.5},0,6.69,{"$error":"#NUM!"}]
["通道1-功率测试(W)-2274.5MHz",3,999,6.65,"是",38.228216453031,{"$nulls":6},"通道1-频率测试(MHz)-2274.5MHz",2274.39,2274.61,2274.51,"是",{"$nulls":6},{"$f":"常温测试!C17","v":2296.5},0,6.65,{"$error":"#NUM!"}]
["通道1-功率测试(W)-2220.5MHz",3,999,6.87,"是",38.3695673705955,{"$nulls":6},"通道1-频率测试(MHz)-2220.5MHz",2220.39,2220.61,2220.497,"是",{"$nulls":6},{"$f":"常温测试!C18","v":2299.5},0,6.87,{"$error":"#NUM!"}]
["通道1-功率测试(W)-2208.5MHz",3,999,6.84,"是",38.3505610172012,{"$nulls":6},"通道1-频率测试(MHz)-2208.5MHz",2208.39,2208.61,2208.494,"是",{"$nulls":6},{"$f":"常温测试!#REF!","v":{"$error":"#REF!"}},{"$error":"#REF!"},6.84,{"$error":"#NUM!"}]
["通道1-功率测试(W)-2292.5MHz",3,999,6.44,"是",38.0888586735981,{"$nulls":6},"通道1-频率测试(MHz)-2292.5MHz",2292.39,2292.61,2292.513,"是",{"$nulls":6},{"$f":"常温测试!#REF!","v":{"$error":"#REF!"}},{"$error":"#REF!"},6.44,{"$error":"#NUM!"}]
[{"$nulls":5},{"$error":"#NUM!"},{"$nulls":18},0,0,{"$error":"#NUM!"}]
[{"$nulls":24},0,0,{"$error":"#NUM!"}]
[{"$nulls":24},0,0,{"$error":"#NUM!"}]
[{"$nulls":24},0,0,{"$error":"#NUM!"}]
[{"$nulls":24},0,0,{"$error":"#NUM!"}]
[{"$nulls":24},0,0,{"$error":"#NUM!"}]
[{"$nulls":24},0,0,{"$error":"#NUM!"}]
[{"$nulls":24},0,0,{"$error":"#NUM!"}]
[{"$nulls":24},0,0,{"$error":"#NUM!"}]
[{"$nulls":24},0,0,{"$error":"#NUM!"}]
[{"$nulls":24},0,0,{"$error":"#NUM!"}]
[{"$nulls":24},0,0,{"$error":"#NUM!"}]
[{"$nulls":24},0,0,{"$error":"#NUM!"}]
[{"$nulls":25},0,{"$error":"#NUM!"}]
[{"$nulls":25},0,{"$error":"#NUM!"}]
[{"$nulls":25},0,{"$error":"#NUM!"}]

{"sheet":"FSK调制系数","index":6,"n_rows":1,"n_cols":23,"rows_kept":1,"cut":false,"hidden":false,"merged":[]}
["测试名称","下限","上限","测试值","通过",null,"测试名称","下限","上限","测试值","通过",null,"测试名称","下限","上限","测试值","通过",null,"测试名称","下限","上限","测试值","通过"]

{"sheet":"噪声功率谱密度","index":7,"n_rows":1,"n_cols":23,"rows_kept":1,"cut":false,"hidden":false,"merged":[]}
["测试名称","下限","上限","测试值","通过",null,"测试名称","下限","上限","测试值","通过",null,"测试名称","下限","上限","测试值","通过",null,"测试名称","下限","上限","测试值","通过"]

{"sheet":"相位噪声","index":8,"n_rows":1,"n_cols":23,"rows_kept":1,"cut":false,"hidden":false,"merged":[]}
["测试名称","下限","上限","测试值","通过",null,"测试名称","下限","上限","测试值","通过",null,"测试名称","下限","上限","测试值","通过",null,"测试名称","下限","上限","测试值","通过"]

{"sheet":"功率(功率计)","index":9,"n_rows":1,"n_cols":23,"rows_kept":1,"cut":false,"hidden":false,"merged":[]}
["测试名称","下限","上限","测试值","通过",null,"测试名称","下限","上限","测试值","通过",null,"测试名称","下限","上限","测试值","通过",null,"测试名称","下限","上限","测试值","通过"]

{"sheet":"测试信息","index":10,"n_rows":2,"n_cols":5,"rows_kept":2,"cut":false,"hidden":false,"merged":[]}
["序列号","检验员","测试日期","温度","湿度"]
["21PBF06001M",null,"2021-09-04","22.9℃","60.4%"]

{"sheet":"Sheet1","index":11,"n_rows":0,"n_cols":0,"rows_kept":0,"cut":false,"hidden":false,"merged":[]}

{"sheet":"Sheet2","index":12,"n_rows":0,"n_cols":0,"rows_kept":0,"cut":false,"hidden":false,"merged":[]}